BEGIN:VCALENDAR
VERSION:2.0
PRODID:-//Bike Box Org - ECPv6.15.20//NONSGML v1.0//EN
CALSCALE:GREGORIAN
METHOD:PUBLISH
X-ORIGINAL-URL:https://bikeboxproject.org
X-WR-CALDESC:Events for Bike Box Org
REFRESH-INTERVAL;VALUE=DURATION:PT1H
X-Robots-Tag:noindex
X-PUBLISHED-TTL:PT1H
BEGIN:VTIMEZONE
TZID:America/New_York
BEGIN:DAYLIGHT
TZOFFSETFROM:-0500
TZOFFSETTO:-0400
TZNAME:EDT
DTSTART:20290311T070000
END:DAYLIGHT
BEGIN:STANDARD
TZOFFSETFROM:-0400
TZOFFSETTO:-0500
TZNAME:EST
DTSTART:20291104T060000
END:STANDARD
BEGIN:DAYLIGHT
TZOFFSETFROM:-0500
TZOFFSETTO:-0400
TZNAME:EDT
DTSTART:20300310T070000
END:DAYLIGHT
BEGIN:STANDARD
TZOFFSETFROM:-0400
TZOFFSETTO:-0500
TZNAME:EST
DTSTART:20301103T060000
END:STANDARD
BEGIN:DAYLIGHT
TZOFFSETFROM:-0500
TZOFFSETTO:-0400
TZNAME:EDT
DTSTART:20310309T070000
END:DAYLIGHT
BEGIN:STANDARD
TZOFFSETFROM:-0400
TZOFFSETTO:-0500
TZNAME:EST
DTSTART:20311102T060000
END:STANDARD
END:VTIMEZONE
BEGIN:VEVENT
DTSTART;TZID=America/New_York:20300212T110000
DTEND;TZID=America/New_York:20300212T120000
DTSTAMP:20260424T223416
CREATED:20260224T171516Z
LAST-MODIFIED:20260225T132448Z
UID:10001980-1897124400-1897128000@bikeboxproject.org
SUMMARY:RSB Foreman Class
DESCRIPTION:Level 3/4 Rock Steady Boxing class; progressed PD with more serious symptoms; requires volunteer assistance due to balance\, cognition\, and modifications
URL:https://bikeboxproject.org/calendar1/foreman-rsb-class/2030-02-12/
CATEGORIES:Foreman RSB Class
END:VEVENT
BEGIN:VEVENT
DTSTART;TZID=America/New_York:20300214T110000
DTEND;TZID=America/New_York:20300214T120000
DTSTAMP:20260424T223416
CREATED:20260224T171516Z
LAST-MODIFIED:20260225T132448Z
UID:10001981-1897297200-1897300800@bikeboxproject.org
SUMMARY:RSB Foreman Class
DESCRIPTION:Level 3/4 Rock Steady Boxing class; progressed PD with more serious symptoms; requires volunteer assistance due to balance\, cognition\, and modifications
URL:https://bikeboxproject.org/calendar1/foreman-rsb-class/2030-02-14/
CATEGORIES:Foreman RSB Class
END:VEVENT
BEGIN:VEVENT
DTSTART;TZID=America/New_York:20300219T110000
DTEND;TZID=America/New_York:20300219T120000
DTSTAMP:20260424T223416
CREATED:20260224T171516Z
LAST-MODIFIED:20260225T132448Z
UID:10001982-1897729200-1897732800@bikeboxproject.org
SUMMARY:RSB Foreman Class
DESCRIPTION:Level 3/4 Rock Steady Boxing class; progressed PD with more serious symptoms; requires volunteer assistance due to balance\, cognition\, and modifications
URL:https://bikeboxproject.org/calendar1/foreman-rsb-class/2030-02-19/
CATEGORIES:Foreman RSB Class
END:VEVENT
BEGIN:VEVENT
DTSTART;TZID=America/New_York:20300221T110000
DTEND;TZID=America/New_York:20300221T120000
DTSTAMP:20260424T223416
CREATED:20260224T171516Z
LAST-MODIFIED:20260225T132448Z
UID:10001983-1897902000-1897905600@bikeboxproject.org
SUMMARY:RSB Foreman Class
DESCRIPTION:Level 3/4 Rock Steady Boxing class; progressed PD with more serious symptoms; requires volunteer assistance due to balance\, cognition\, and modifications
URL:https://bikeboxproject.org/calendar1/foreman-rsb-class/2030-02-21/
CATEGORIES:Foreman RSB Class
END:VEVENT
BEGIN:VEVENT
DTSTART;TZID=America/New_York:20300226T110000
DTEND;TZID=America/New_York:20300226T120000
DTSTAMP:20260424T223416
CREATED:20260224T171516Z
LAST-MODIFIED:20260225T132448Z
UID:10001984-1898334000-1898337600@bikeboxproject.org
SUMMARY:RSB Foreman Class
DESCRIPTION:Level 3/4 Rock Steady Boxing class; progressed PD with more serious symptoms; requires volunteer assistance due to balance\, cognition\, and modifications
URL:https://bikeboxproject.org/calendar1/foreman-rsb-class/2030-02-26/
CATEGORIES:Foreman RSB Class
END:VEVENT
BEGIN:VEVENT
DTSTART;TZID=America/New_York:20300228T110000
DTEND;TZID=America/New_York:20300228T120000
DTSTAMP:20260424T223416
CREATED:20260224T171516Z
LAST-MODIFIED:20260225T132448Z
UID:10001985-1898506800-1898510400@bikeboxproject.org
SUMMARY:RSB Foreman Class
DESCRIPTION:Level 3/4 Rock Steady Boxing class; progressed PD with more serious symptoms; requires volunteer assistance due to balance\, cognition\, and modifications
URL:https://bikeboxproject.org/calendar1/foreman-rsb-class/2030-02-28/
CATEGORIES:Foreman RSB Class
END:VEVENT
BEGIN:VEVENT
DTSTART;TZID=America/New_York:20300305T110000
DTEND;TZID=America/New_York:20300305T120000
DTSTAMP:20260424T223416
CREATED:20260224T171516Z
LAST-MODIFIED:20260225T132448Z
UID:10001986-1898938800-1898942400@bikeboxproject.org
SUMMARY:RSB Foreman Class
DESCRIPTION:Level 3/4 Rock Steady Boxing class; progressed PD with more serious symptoms; requires volunteer assistance due to balance\, cognition\, and modifications
URL:https://bikeboxproject.org/calendar1/foreman-rsb-class/2030-03-05/
CATEGORIES:Foreman RSB Class
END:VEVENT
BEGIN:VEVENT
DTSTART;TZID=America/New_York:20300307T110000
DTEND;TZID=America/New_York:20300307T120000
DTSTAMP:20260424T223416
CREATED:20260224T171516Z
LAST-MODIFIED:20260225T132448Z
UID:10001987-1899111600-1899115200@bikeboxproject.org
SUMMARY:RSB Foreman Class
DESCRIPTION:Level 3/4 Rock Steady Boxing class; progressed PD with more serious symptoms; requires volunteer assistance due to balance\, cognition\, and modifications
URL:https://bikeboxproject.org/calendar1/foreman-rsb-class/2030-03-07/
CATEGORIES:Foreman RSB Class
END:VEVENT
BEGIN:VEVENT
DTSTART;TZID=America/New_York:20300312T110000
DTEND;TZID=America/New_York:20300312T120000
DTSTAMP:20260424T223416
CREATED:20260224T171516Z
LAST-MODIFIED:20260225T132448Z
UID:10001988-1899543600-1899547200@bikeboxproject.org
SUMMARY:RSB Foreman Class
DESCRIPTION:Level 3/4 Rock Steady Boxing class; progressed PD with more serious symptoms; requires volunteer assistance due to balance\, cognition\, and modifications
URL:https://bikeboxproject.org/calendar1/foreman-rsb-class/2030-03-12/
CATEGORIES:Foreman RSB Class
END:VEVENT
BEGIN:VEVENT
DTSTART;TZID=America/New_York:20300314T110000
DTEND;TZID=America/New_York:20300314T120000
DTSTAMP:20260424T223416
CREATED:20260224T171516Z
LAST-MODIFIED:20260225T132448Z
UID:10001989-1899716400-1899720000@bikeboxproject.org
SUMMARY:RSB Foreman Class
DESCRIPTION:Level 3/4 Rock Steady Boxing class; progressed PD with more serious symptoms; requires volunteer assistance due to balance\, cognition\, and modifications
URL:https://bikeboxproject.org/calendar1/foreman-rsb-class/2030-03-14/
CATEGORIES:Foreman RSB Class
END:VEVENT
BEGIN:VEVENT
DTSTART;TZID=America/New_York:20300319T110000
DTEND;TZID=America/New_York:20300319T120000
DTSTAMP:20260424T223416
CREATED:20260224T171516Z
LAST-MODIFIED:20260225T132448Z
UID:10001990-1900148400-1900152000@bikeboxproject.org
SUMMARY:RSB Foreman Class
DESCRIPTION:Level 3/4 Rock Steady Boxing class; progressed PD with more serious symptoms; requires volunteer assistance due to balance\, cognition\, and modifications
URL:https://bikeboxproject.org/calendar1/foreman-rsb-class/2030-03-19/
CATEGORIES:Foreman RSB Class
END:VEVENT
BEGIN:VEVENT
DTSTART;TZID=America/New_York:20300321T110000
DTEND;TZID=America/New_York:20300321T120000
DTSTAMP:20260424T223416
CREATED:20260224T171516Z
LAST-MODIFIED:20260225T132448Z
UID:10001991-1900321200-1900324800@bikeboxproject.org
SUMMARY:RSB Foreman Class
DESCRIPTION:Level 3/4 Rock Steady Boxing class; progressed PD with more serious symptoms; requires volunteer assistance due to balance\, cognition\, and modifications
URL:https://bikeboxproject.org/calendar1/foreman-rsb-class/2030-03-21/
CATEGORIES:Foreman RSB Class
END:VEVENT
BEGIN:VEVENT
DTSTART;TZID=America/New_York:20300326T110000
DTEND;TZID=America/New_York:20300326T120000
DTSTAMP:20260424T223416
CREATED:20260224T171516Z
LAST-MODIFIED:20260225T132448Z
UID:10001992-1900753200-1900756800@bikeboxproject.org
SUMMARY:RSB Foreman Class
DESCRIPTION:Level 3/4 Rock Steady Boxing class; progressed PD with more serious symptoms; requires volunteer assistance due to balance\, cognition\, and modifications
URL:https://bikeboxproject.org/calendar1/foreman-rsb-class/2030-03-26/
CATEGORIES:Foreman RSB Class
END:VEVENT
BEGIN:VEVENT
DTSTART;TZID=America/New_York:20300328T110000
DTEND;TZID=America/New_York:20300328T120000
DTSTAMP:20260424T223416
CREATED:20260224T171516Z
LAST-MODIFIED:20260225T132448Z
UID:10001993-1900926000-1900929600@bikeboxproject.org
SUMMARY:RSB Foreman Class
DESCRIPTION:Level 3/4 Rock Steady Boxing class; progressed PD with more serious symptoms; requires volunteer assistance due to balance\, cognition\, and modifications
URL:https://bikeboxproject.org/calendar1/foreman-rsb-class/2030-03-28/
CATEGORIES:Foreman RSB Class
END:VEVENT
BEGIN:VEVENT
DTSTART;TZID=America/New_York:20300402T110000
DTEND;TZID=America/New_York:20300402T120000
DTSTAMP:20260424T223416
CREATED:20260224T171516Z
LAST-MODIFIED:20260225T132448Z
UID:10001994-1901358000-1901361600@bikeboxproject.org
SUMMARY:RSB Foreman Class
DESCRIPTION:Level 3/4 Rock Steady Boxing class; progressed PD with more serious symptoms; requires volunteer assistance due to balance\, cognition\, and modifications
URL:https://bikeboxproject.org/calendar1/foreman-rsb-class/2030-04-02/
CATEGORIES:Foreman RSB Class
END:VEVENT
BEGIN:VEVENT
DTSTART;TZID=America/New_York:20300404T110000
DTEND;TZID=America/New_York:20300404T120000
DTSTAMP:20260424T223416
CREATED:20260224T171516Z
LAST-MODIFIED:20260225T132448Z
UID:10001995-1901530800-1901534400@bikeboxproject.org
SUMMARY:RSB Foreman Class
DESCRIPTION:Level 3/4 Rock Steady Boxing class; progressed PD with more serious symptoms; requires volunteer assistance due to balance\, cognition\, and modifications
URL:https://bikeboxproject.org/calendar1/foreman-rsb-class/2030-04-04/
CATEGORIES:Foreman RSB Class
END:VEVENT
BEGIN:VEVENT
DTSTART;TZID=America/New_York:20300409T110000
DTEND;TZID=America/New_York:20300409T120000
DTSTAMP:20260424T223416
CREATED:20260224T171516Z
LAST-MODIFIED:20260225T132448Z
UID:10001996-1901962800-1901966400@bikeboxproject.org
SUMMARY:RSB Foreman Class
DESCRIPTION:Level 3/4 Rock Steady Boxing class; progressed PD with more serious symptoms; requires volunteer assistance due to balance\, cognition\, and modifications
URL:https://bikeboxproject.org/calendar1/foreman-rsb-class/2030-04-09/
CATEGORIES:Foreman RSB Class
END:VEVENT
BEGIN:VEVENT
DTSTART;TZID=America/New_York:20300411T110000
DTEND;TZID=America/New_York:20300411T120000
DTSTAMP:20260424T223416
CREATED:20260224T171516Z
LAST-MODIFIED:20260225T132448Z
UID:10001997-1902135600-1902139200@bikeboxproject.org
SUMMARY:RSB Foreman Class
DESCRIPTION:Level 3/4 Rock Steady Boxing class; progressed PD with more serious symptoms; requires volunteer assistance due to balance\, cognition\, and modifications
URL:https://bikeboxproject.org/calendar1/foreman-rsb-class/2030-04-11/
CATEGORIES:Foreman RSB Class
END:VEVENT
BEGIN:VEVENT
DTSTART;TZID=America/New_York:20300416T110000
DTEND;TZID=America/New_York:20300416T120000
DTSTAMP:20260424T223416
CREATED:20260224T171516Z
LAST-MODIFIED:20260225T132448Z
UID:10001998-1902567600-1902571200@bikeboxproject.org
SUMMARY:RSB Foreman Class
DESCRIPTION:Level 3/4 Rock Steady Boxing class; progressed PD with more serious symptoms; requires volunteer assistance due to balance\, cognition\, and modifications
URL:https://bikeboxproject.org/calendar1/foreman-rsb-class/2030-04-16/
CATEGORIES:Foreman RSB Class
END:VEVENT
BEGIN:VEVENT
DTSTART;TZID=America/New_York:20300418T110000
DTEND;TZID=America/New_York:20300418T120000
DTSTAMP:20260424T223416
CREATED:20260224T171516Z
LAST-MODIFIED:20260225T132448Z
UID:10001999-1902740400-1902744000@bikeboxproject.org
SUMMARY:RSB Foreman Class
DESCRIPTION:Level 3/4 Rock Steady Boxing class; progressed PD with more serious symptoms; requires volunteer assistance due to balance\, cognition\, and modifications
URL:https://bikeboxproject.org/calendar1/foreman-rsb-class/2030-04-18/
CATEGORIES:Foreman RSB Class
END:VEVENT
BEGIN:VEVENT
DTSTART;TZID=America/New_York:20300423T110000
DTEND;TZID=America/New_York:20300423T120000
DTSTAMP:20260424T223416
CREATED:20260224T171516Z
LAST-MODIFIED:20260225T132448Z
UID:10002000-1903172400-1903176000@bikeboxproject.org
SUMMARY:RSB Foreman Class
DESCRIPTION:Level 3/4 Rock Steady Boxing class; progressed PD with more serious symptoms; requires volunteer assistance due to balance\, cognition\, and modifications
URL:https://bikeboxproject.org/calendar1/foreman-rsb-class/2030-04-23/
CATEGORIES:Foreman RSB Class
END:VEVENT
BEGIN:VEVENT
DTSTART;TZID=America/New_York:20300425T110000
DTEND;TZID=America/New_York:20300425T120000
DTSTAMP:20260424T223416
CREATED:20260224T171516Z
LAST-MODIFIED:20260225T132448Z
UID:10002001-1903345200-1903348800@bikeboxproject.org
SUMMARY:RSB Foreman Class
DESCRIPTION:Level 3/4 Rock Steady Boxing class; progressed PD with more serious symptoms; requires volunteer assistance due to balance\, cognition\, and modifications
URL:https://bikeboxproject.org/calendar1/foreman-rsb-class/2030-04-25/
CATEGORIES:Foreman RSB Class
END:VEVENT
BEGIN:VEVENT
DTSTART;TZID=America/New_York:20300430T110000
DTEND;TZID=America/New_York:20300430T120000
DTSTAMP:20260424T223416
CREATED:20260224T171516Z
LAST-MODIFIED:20260225T132448Z
UID:10002002-1903777200-1903780800@bikeboxproject.org
SUMMARY:RSB Foreman Class
DESCRIPTION:Level 3/4 Rock Steady Boxing class; progressed PD with more serious symptoms; requires volunteer assistance due to balance\, cognition\, and modifications
URL:https://bikeboxproject.org/calendar1/foreman-rsb-class/2030-04-30/
CATEGORIES:Foreman RSB Class
END:VEVENT
BEGIN:VEVENT
DTSTART;TZID=America/New_York:20300502T110000
DTEND;TZID=America/New_York:20300502T120000
DTSTAMP:20260424T223416
CREATED:20260224T171516Z
LAST-MODIFIED:20260225T132448Z
UID:10002003-1903950000-1903953600@bikeboxproject.org
SUMMARY:RSB Foreman Class
DESCRIPTION:Level 3/4 Rock Steady Boxing class; progressed PD with more serious symptoms; requires volunteer assistance due to balance\, cognition\, and modifications
URL:https://bikeboxproject.org/calendar1/foreman-rsb-class/2030-05-02/
CATEGORIES:Foreman RSB Class
END:VEVENT
BEGIN:VEVENT
DTSTART;TZID=America/New_York:20300507T110000
DTEND;TZID=America/New_York:20300507T120000
DTSTAMP:20260424T223416
CREATED:20260224T171516Z
LAST-MODIFIED:20260225T132448Z
UID:10002004-1904382000-1904385600@bikeboxproject.org
SUMMARY:RSB Foreman Class
DESCRIPTION:Level 3/4 Rock Steady Boxing class; progressed PD with more serious symptoms; requires volunteer assistance due to balance\, cognition\, and modifications
URL:https://bikeboxproject.org/calendar1/foreman-rsb-class/2030-05-07/
CATEGORIES:Foreman RSB Class
END:VEVENT
BEGIN:VEVENT
DTSTART;TZID=America/New_York:20300509T110000
DTEND;TZID=America/New_York:20300509T120000
DTSTAMP:20260424T223416
CREATED:20260224T171516Z
LAST-MODIFIED:20260225T132448Z
UID:10002005-1904554800-1904558400@bikeboxproject.org
SUMMARY:RSB Foreman Class
DESCRIPTION:Level 3/4 Rock Steady Boxing class; progressed PD with more serious symptoms; requires volunteer assistance due to balance\, cognition\, and modifications
URL:https://bikeboxproject.org/calendar1/foreman-rsb-class/2030-05-09/
CATEGORIES:Foreman RSB Class
END:VEVENT
BEGIN:VEVENT
DTSTART;TZID=America/New_York:20300514T110000
DTEND;TZID=America/New_York:20300514T120000
DTSTAMP:20260424T223416
CREATED:20260224T171516Z
LAST-MODIFIED:20260225T132448Z
UID:10002006-1904986800-1904990400@bikeboxproject.org
SUMMARY:RSB Foreman Class
DESCRIPTION:Level 3/4 Rock Steady Boxing class; progressed PD with more serious symptoms; requires volunteer assistance due to balance\, cognition\, and modifications
URL:https://bikeboxproject.org/calendar1/foreman-rsb-class/2030-05-14/
CATEGORIES:Foreman RSB Class
END:VEVENT
BEGIN:VEVENT
DTSTART;TZID=America/New_York:20300516T110000
DTEND;TZID=America/New_York:20300516T120000
DTSTAMP:20260424T223416
CREATED:20260224T171516Z
LAST-MODIFIED:20260225T132448Z
UID:10002007-1905159600-1905163200@bikeboxproject.org
SUMMARY:RSB Foreman Class
DESCRIPTION:Level 3/4 Rock Steady Boxing class; progressed PD with more serious symptoms; requires volunteer assistance due to balance\, cognition\, and modifications
URL:https://bikeboxproject.org/calendar1/foreman-rsb-class/2030-05-16/
CATEGORIES:Foreman RSB Class
END:VEVENT
BEGIN:VEVENT
DTSTART;TZID=America/New_York:20300521T110000
DTEND;TZID=America/New_York:20300521T120000
DTSTAMP:20260424T223416
CREATED:20260224T171516Z
LAST-MODIFIED:20260225T132448Z
UID:10002008-1905591600-1905595200@bikeboxproject.org
SUMMARY:RSB Foreman Class
DESCRIPTION:Level 3/4 Rock Steady Boxing class; progressed PD with more serious symptoms; requires volunteer assistance due to balance\, cognition\, and modifications
URL:https://bikeboxproject.org/calendar1/foreman-rsb-class/2030-05-21/
CATEGORIES:Foreman RSB Class
END:VEVENT
BEGIN:VEVENT
DTSTART;TZID=America/New_York:20300523T110000
DTEND;TZID=America/New_York:20300523T120000
DTSTAMP:20260424T223416
CREATED:20260224T171516Z
LAST-MODIFIED:20260225T132448Z
UID:10002009-1905764400-1905768000@bikeboxproject.org
SUMMARY:RSB Foreman Class
DESCRIPTION:Level 3/4 Rock Steady Boxing class; progressed PD with more serious symptoms; requires volunteer assistance due to balance\, cognition\, and modifications
URL:https://bikeboxproject.org/calendar1/foreman-rsb-class/2030-05-23/
CATEGORIES:Foreman RSB Class
END:VEVENT
END:VCALENDAR