BEGIN:VCALENDAR
VERSION:2.0
PRODID:-//Bike Box Org - ECPv6.15.20//NONSGML v1.0//EN
CALSCALE:GREGORIAN
METHOD:PUBLISH
X-ORIGINAL-URL:https://bikeboxproject.org
X-WR-CALDESC:Events for Bike Box Org
REFRESH-INTERVAL;VALUE=DURATION:PT1H
X-Robots-Tag:noindex
X-PUBLISHED-TTL:PT1H
BEGIN:VTIMEZONE
TZID:America/New_York
BEGIN:DAYLIGHT
TZOFFSETFROM:-0500
TZOFFSETTO:-0400
TZNAME:EDT
DTSTART:20260308T070000
END:DAYLIGHT
BEGIN:STANDARD
TZOFFSETFROM:-0400
TZOFFSETTO:-0500
TZNAME:EST
DTSTART:20261101T060000
END:STANDARD
BEGIN:DAYLIGHT
TZOFFSETFROM:-0500
TZOFFSETTO:-0400
TZNAME:EDT
DTSTART:20270314T070000
END:DAYLIGHT
BEGIN:STANDARD
TZOFFSETFROM:-0400
TZOFFSETTO:-0500
TZNAME:EST
DTSTART:20271107T060000
END:STANDARD
BEGIN:DAYLIGHT
TZOFFSETFROM:-0500
TZOFFSETTO:-0400
TZNAME:EDT
DTSTART:20280312T070000
END:DAYLIGHT
BEGIN:STANDARD
TZOFFSETFROM:-0400
TZOFFSETTO:-0500
TZNAME:EST
DTSTART:20281105T060000
END:STANDARD
END:VTIMEZONE
BEGIN:VEVENT
DTSTART;TZID=America/New_York:20270601T130000
DTEND;TZID=America/New_York:20270601T140000
DTSTAMP:20260425T214606
CREATED:20260224T171937Z
LAST-MODIFIED:20260225T132558Z
UID:10002219-1811854800-1811858400@bikeboxproject.org
SUMMARY:RSB Frazier Class
DESCRIPTION:Level 4 Rock Steady Boxing class; severe symptoms of PD using an assistive device; requires volunteer for assistance
URL:https://bikeboxproject.org/calendar1/rsb-frazier-class/2027-06-01/
CATEGORIES:RSB Frazier Class
END:VEVENT
BEGIN:VEVENT
DTSTART;TZID=America/New_York:20270603T130000
DTEND;TZID=America/New_York:20270603T140000
DTSTAMP:20260425T214606
CREATED:20260224T171937Z
LAST-MODIFIED:20260225T132558Z
UID:10002220-1812027600-1812031200@bikeboxproject.org
SUMMARY:RSB Frazier Class
DESCRIPTION:Level 4 Rock Steady Boxing class; severe symptoms of PD using an assistive device; requires volunteer for assistance
URL:https://bikeboxproject.org/calendar1/rsb-frazier-class/2027-06-03/
CATEGORIES:RSB Frazier Class
END:VEVENT
BEGIN:VEVENT
DTSTART;TZID=America/New_York:20270608T130000
DTEND;TZID=America/New_York:20270608T140000
DTSTAMP:20260425T214606
CREATED:20260224T171937Z
LAST-MODIFIED:20260225T132558Z
UID:10002221-1812459600-1812463200@bikeboxproject.org
SUMMARY:RSB Frazier Class
DESCRIPTION:Level 4 Rock Steady Boxing class; severe symptoms of PD using an assistive device; requires volunteer for assistance
URL:https://bikeboxproject.org/calendar1/rsb-frazier-class/2027-06-08/
CATEGORIES:RSB Frazier Class
END:VEVENT
BEGIN:VEVENT
DTSTART;TZID=America/New_York:20270610T130000
DTEND;TZID=America/New_York:20270610T140000
DTSTAMP:20260425T214606
CREATED:20260224T171937Z
LAST-MODIFIED:20260225T132558Z
UID:10002222-1812632400-1812636000@bikeboxproject.org
SUMMARY:RSB Frazier Class
DESCRIPTION:Level 4 Rock Steady Boxing class; severe symptoms of PD using an assistive device; requires volunteer for assistance
URL:https://bikeboxproject.org/calendar1/rsb-frazier-class/2027-06-10/
CATEGORIES:RSB Frazier Class
END:VEVENT
BEGIN:VEVENT
DTSTART;TZID=America/New_York:20270615T130000
DTEND;TZID=America/New_York:20270615T140000
DTSTAMP:20260425T214606
CREATED:20260224T171937Z
LAST-MODIFIED:20260225T132558Z
UID:10002223-1813064400-1813068000@bikeboxproject.org
SUMMARY:RSB Frazier Class
DESCRIPTION:Level 4 Rock Steady Boxing class; severe symptoms of PD using an assistive device; requires volunteer for assistance
URL:https://bikeboxproject.org/calendar1/rsb-frazier-class/2027-06-15/
CATEGORIES:RSB Frazier Class
END:VEVENT
BEGIN:VEVENT
DTSTART;TZID=America/New_York:20270617T130000
DTEND;TZID=America/New_York:20270617T140000
DTSTAMP:20260425T214606
CREATED:20260224T171937Z
LAST-MODIFIED:20260225T132558Z
UID:10002224-1813237200-1813240800@bikeboxproject.org
SUMMARY:RSB Frazier Class
DESCRIPTION:Level 4 Rock Steady Boxing class; severe symptoms of PD using an assistive device; requires volunteer for assistance
URL:https://bikeboxproject.org/calendar1/rsb-frazier-class/2027-06-17/
CATEGORIES:RSB Frazier Class
END:VEVENT
BEGIN:VEVENT
DTSTART;TZID=America/New_York:20270622T130000
DTEND;TZID=America/New_York:20270622T140000
DTSTAMP:20260425T214606
CREATED:20260224T171937Z
LAST-MODIFIED:20260225T132558Z
UID:10002225-1813669200-1813672800@bikeboxproject.org
SUMMARY:RSB Frazier Class
DESCRIPTION:Level 4 Rock Steady Boxing class; severe symptoms of PD using an assistive device; requires volunteer for assistance
URL:https://bikeboxproject.org/calendar1/rsb-frazier-class/2027-06-22/
CATEGORIES:RSB Frazier Class
END:VEVENT
BEGIN:VEVENT
DTSTART;TZID=America/New_York:20270624T130000
DTEND;TZID=America/New_York:20270624T140000
DTSTAMP:20260425T214606
CREATED:20260224T171937Z
LAST-MODIFIED:20260225T132558Z
UID:10002226-1813842000-1813845600@bikeboxproject.org
SUMMARY:RSB Frazier Class
DESCRIPTION:Level 4 Rock Steady Boxing class; severe symptoms of PD using an assistive device; requires volunteer for assistance
URL:https://bikeboxproject.org/calendar1/rsb-frazier-class/2027-06-24/
CATEGORIES:RSB Frazier Class
END:VEVENT
BEGIN:VEVENT
DTSTART;TZID=America/New_York:20270629T130000
DTEND;TZID=America/New_York:20270629T140000
DTSTAMP:20260425T214606
CREATED:20260224T171937Z
LAST-MODIFIED:20260225T132558Z
UID:10002227-1814274000-1814277600@bikeboxproject.org
SUMMARY:RSB Frazier Class
DESCRIPTION:Level 4 Rock Steady Boxing class; severe symptoms of PD using an assistive device; requires volunteer for assistance
URL:https://bikeboxproject.org/calendar1/rsb-frazier-class/2027-06-29/
CATEGORIES:RSB Frazier Class
END:VEVENT
END:VCALENDAR