BEGIN:VCALENDAR
VERSION:2.0
PRODID:-//Bike Box Org - ECPv6.15.20//NONSGML v1.0//EN
CALSCALE:GREGORIAN
METHOD:PUBLISH
X-WR-CALNAME:Bike Box Org
X-ORIGINAL-URL:https://bikeboxproject.org
X-WR-CALDESC:Events for Bike Box Org
REFRESH-INTERVAL;VALUE=DURATION:PT1H
X-Robots-Tag:noindex
X-PUBLISHED-TTL:PT1H
BEGIN:VTIMEZONE
TZID:America/New_York
BEGIN:DAYLIGHT
TZOFFSETFROM:-0500
TZOFFSETTO:-0400
TZNAME:EDT
DTSTART:20290311T070000
END:DAYLIGHT
BEGIN:STANDARD
TZOFFSETFROM:-0400
TZOFFSETTO:-0500
TZNAME:EST
DTSTART:20291104T060000
END:STANDARD
BEGIN:DAYLIGHT
TZOFFSETFROM:-0500
TZOFFSETTO:-0400
TZNAME:EDT
DTSTART:20300310T070000
END:DAYLIGHT
BEGIN:STANDARD
TZOFFSETFROM:-0400
TZOFFSETTO:-0500
TZNAME:EST
DTSTART:20301103T060000
END:STANDARD
BEGIN:DAYLIGHT
TZOFFSETFROM:-0500
TZOFFSETTO:-0400
TZNAME:EDT
DTSTART:20310309T070000
END:DAYLIGHT
BEGIN:STANDARD
TZOFFSETFROM:-0400
TZOFFSETTO:-0500
TZNAME:EST
DTSTART:20311102T060000
END:STANDARD
END:VTIMEZONE
BEGIN:VEVENT
DTSTART;TZID=America/New_York:20300528T130000
DTEND;TZID=America/New_York:20300528T140000
DTSTAMP:20260422T220454
CREATED:20260224T171937Z
LAST-MODIFIED:20260225T132558Z
UID:10002531-1906203600-1906207200@bikeboxproject.org
SUMMARY:RSB Frazier Class
DESCRIPTION:Level 4 Rock Steady Boxing class; severe symptoms of PD using an assistive device; requires volunteer for assistance
URL:https://bikeboxproject.org/calendar1/rsb-frazier-class/2030-05-28/
CATEGORIES:RSB Frazier Class
END:VEVENT
BEGIN:VEVENT
DTSTART;TZID=America/New_York:20300530T130000
DTEND;TZID=America/New_York:20300530T140000
DTSTAMP:20260422T220454
CREATED:20260224T171937Z
LAST-MODIFIED:20260225T132558Z
UID:10002532-1906376400-1906380000@bikeboxproject.org
SUMMARY:RSB Frazier Class
DESCRIPTION:Level 4 Rock Steady Boxing class; severe symptoms of PD using an assistive device; requires volunteer for assistance
URL:https://bikeboxproject.org/calendar1/rsb-frazier-class/2030-05-30/
CATEGORIES:RSB Frazier Class
END:VEVENT
BEGIN:VEVENT
DTSTART;TZID=America/New_York:20300604T130000
DTEND;TZID=America/New_York:20300604T140000
DTSTAMP:20260422T220454
CREATED:20260224T171937Z
LAST-MODIFIED:20260225T132558Z
UID:10002533-1906808400-1906812000@bikeboxproject.org
SUMMARY:RSB Frazier Class
DESCRIPTION:Level 4 Rock Steady Boxing class; severe symptoms of PD using an assistive device; requires volunteer for assistance
URL:https://bikeboxproject.org/calendar1/rsb-frazier-class/2030-06-04/
CATEGORIES:RSB Frazier Class
END:VEVENT
BEGIN:VEVENT
DTSTART;TZID=America/New_York:20300606T130000
DTEND;TZID=America/New_York:20300606T140000
DTSTAMP:20260422T220454
CREATED:20260224T171937Z
LAST-MODIFIED:20260225T132558Z
UID:10002534-1906981200-1906984800@bikeboxproject.org
SUMMARY:RSB Frazier Class
DESCRIPTION:Level 4 Rock Steady Boxing class; severe symptoms of PD using an assistive device; requires volunteer for assistance
URL:https://bikeboxproject.org/calendar1/rsb-frazier-class/2030-06-06/
CATEGORIES:RSB Frazier Class
END:VEVENT
BEGIN:VEVENT
DTSTART;TZID=America/New_York:20300611T130000
DTEND;TZID=America/New_York:20300611T140000
DTSTAMP:20260422T220454
CREATED:20260224T171937Z
LAST-MODIFIED:20260225T132558Z
UID:10002535-1907413200-1907416800@bikeboxproject.org
SUMMARY:RSB Frazier Class
DESCRIPTION:Level 4 Rock Steady Boxing class; severe symptoms of PD using an assistive device; requires volunteer for assistance
URL:https://bikeboxproject.org/calendar1/rsb-frazier-class/2030-06-11/
CATEGORIES:RSB Frazier Class
END:VEVENT
BEGIN:VEVENT
DTSTART;TZID=America/New_York:20300613T130000
DTEND;TZID=America/New_York:20300613T140000
DTSTAMP:20260422T220454
CREATED:20260224T171937Z
LAST-MODIFIED:20260225T132558Z
UID:10002536-1907586000-1907589600@bikeboxproject.org
SUMMARY:RSB Frazier Class
DESCRIPTION:Level 4 Rock Steady Boxing class; severe symptoms of PD using an assistive device; requires volunteer for assistance
URL:https://bikeboxproject.org/calendar1/rsb-frazier-class/2030-06-13/
CATEGORIES:RSB Frazier Class
END:VEVENT
BEGIN:VEVENT
DTSTART;TZID=America/New_York:20300618T130000
DTEND;TZID=America/New_York:20300618T140000
DTSTAMP:20260422T220454
CREATED:20260224T171937Z
LAST-MODIFIED:20260225T132558Z
UID:10002537-1908018000-1908021600@bikeboxproject.org
SUMMARY:RSB Frazier Class
DESCRIPTION:Level 4 Rock Steady Boxing class; severe symptoms of PD using an assistive device; requires volunteer for assistance
URL:https://bikeboxproject.org/calendar1/rsb-frazier-class/2030-06-18/
CATEGORIES:RSB Frazier Class
END:VEVENT
BEGIN:VEVENT
DTSTART;TZID=America/New_York:20300620T130000
DTEND;TZID=America/New_York:20300620T140000
DTSTAMP:20260422T220454
CREATED:20260224T171937Z
LAST-MODIFIED:20260225T132558Z
UID:10002538-1908190800-1908194400@bikeboxproject.org
SUMMARY:RSB Frazier Class
DESCRIPTION:Level 4 Rock Steady Boxing class; severe symptoms of PD using an assistive device; requires volunteer for assistance
URL:https://bikeboxproject.org/calendar1/rsb-frazier-class/2030-06-20/
CATEGORIES:RSB Frazier Class
END:VEVENT
BEGIN:VEVENT
DTSTART;TZID=America/New_York:20300625T130000
DTEND;TZID=America/New_York:20300625T140000
DTSTAMP:20260422T220454
CREATED:20260224T171937Z
LAST-MODIFIED:20260225T132558Z
UID:10002539-1908622800-1908626400@bikeboxproject.org
SUMMARY:RSB Frazier Class
DESCRIPTION:Level 4 Rock Steady Boxing class; severe symptoms of PD using an assistive device; requires volunteer for assistance
URL:https://bikeboxproject.org/calendar1/rsb-frazier-class/2030-06-25/
CATEGORIES:RSB Frazier Class
END:VEVENT
BEGIN:VEVENT
DTSTART;TZID=America/New_York:20300627T130000
DTEND;TZID=America/New_York:20300627T140000
DTSTAMP:20260422T220454
CREATED:20260224T171937Z
LAST-MODIFIED:20260225T132558Z
UID:10002540-1908795600-1908799200@bikeboxproject.org
SUMMARY:RSB Frazier Class
DESCRIPTION:Level 4 Rock Steady Boxing class; severe symptoms of PD using an assistive device; requires volunteer for assistance
URL:https://bikeboxproject.org/calendar1/rsb-frazier-class/2030-06-27/
CATEGORIES:RSB Frazier Class
END:VEVENT
BEGIN:VEVENT
DTSTART;TZID=America/New_York:20300702T130000
DTEND;TZID=America/New_York:20300702T140000
DTSTAMP:20260422T220454
CREATED:20260224T171937Z
LAST-MODIFIED:20260225T132558Z
UID:10002541-1909227600-1909231200@bikeboxproject.org
SUMMARY:RSB Frazier Class
DESCRIPTION:Level 4 Rock Steady Boxing class; severe symptoms of PD using an assistive device; requires volunteer for assistance
URL:https://bikeboxproject.org/calendar1/rsb-frazier-class/2030-07-02/
CATEGORIES:RSB Frazier Class
END:VEVENT
BEGIN:VEVENT
DTSTART;TZID=America/New_York:20300704T130000
DTEND;TZID=America/New_York:20300704T140000
DTSTAMP:20260422T220454
CREATED:20260224T171937Z
LAST-MODIFIED:20260225T132558Z
UID:10002542-1909400400-1909404000@bikeboxproject.org
SUMMARY:RSB Frazier Class
DESCRIPTION:Level 4 Rock Steady Boxing class; severe symptoms of PD using an assistive device; requires volunteer for assistance
URL:https://bikeboxproject.org/calendar1/rsb-frazier-class/2030-07-04/
CATEGORIES:RSB Frazier Class
END:VEVENT
BEGIN:VEVENT
DTSTART;TZID=America/New_York:20300709T130000
DTEND;TZID=America/New_York:20300709T140000
DTSTAMP:20260422T220454
CREATED:20260224T171937Z
LAST-MODIFIED:20260225T132558Z
UID:10002543-1909832400-1909836000@bikeboxproject.org
SUMMARY:RSB Frazier Class
DESCRIPTION:Level 4 Rock Steady Boxing class; severe symptoms of PD using an assistive device; requires volunteer for assistance
URL:https://bikeboxproject.org/calendar1/rsb-frazier-class/2030-07-09/
CATEGORIES:RSB Frazier Class
END:VEVENT
BEGIN:VEVENT
DTSTART;TZID=America/New_York:20300711T130000
DTEND;TZID=America/New_York:20300711T140000
DTSTAMP:20260422T220454
CREATED:20260224T171937Z
LAST-MODIFIED:20260225T132558Z
UID:10002544-1910005200-1910008800@bikeboxproject.org
SUMMARY:RSB Frazier Class
DESCRIPTION:Level 4 Rock Steady Boxing class; severe symptoms of PD using an assistive device; requires volunteer for assistance
URL:https://bikeboxproject.org/calendar1/rsb-frazier-class/2030-07-11/
CATEGORIES:RSB Frazier Class
END:VEVENT
BEGIN:VEVENT
DTSTART;TZID=America/New_York:20300716T130000
DTEND;TZID=America/New_York:20300716T140000
DTSTAMP:20260422T220454
CREATED:20260224T171937Z
LAST-MODIFIED:20260225T132558Z
UID:10002545-1910437200-1910440800@bikeboxproject.org
SUMMARY:RSB Frazier Class
DESCRIPTION:Level 4 Rock Steady Boxing class; severe symptoms of PD using an assistive device; requires volunteer for assistance
URL:https://bikeboxproject.org/calendar1/rsb-frazier-class/2030-07-16/
CATEGORIES:RSB Frazier Class
END:VEVENT
BEGIN:VEVENT
DTSTART;TZID=America/New_York:20300718T130000
DTEND;TZID=America/New_York:20300718T140000
DTSTAMP:20260422T220454
CREATED:20260224T171937Z
LAST-MODIFIED:20260225T132558Z
UID:10002546-1910610000-1910613600@bikeboxproject.org
SUMMARY:RSB Frazier Class
DESCRIPTION:Level 4 Rock Steady Boxing class; severe symptoms of PD using an assistive device; requires volunteer for assistance
URL:https://bikeboxproject.org/calendar1/rsb-frazier-class/2030-07-18/
CATEGORIES:RSB Frazier Class
END:VEVENT
BEGIN:VEVENT
DTSTART;TZID=America/New_York:20300723T130000
DTEND;TZID=America/New_York:20300723T140000
DTSTAMP:20260422T220454
CREATED:20260224T171937Z
LAST-MODIFIED:20260225T132558Z
UID:10002547-1911042000-1911045600@bikeboxproject.org
SUMMARY:RSB Frazier Class
DESCRIPTION:Level 4 Rock Steady Boxing class; severe symptoms of PD using an assistive device; requires volunteer for assistance
URL:https://bikeboxproject.org/calendar1/rsb-frazier-class/2030-07-23/
CATEGORIES:RSB Frazier Class
END:VEVENT
BEGIN:VEVENT
DTSTART;TZID=America/New_York:20300725T130000
DTEND;TZID=America/New_York:20300725T140000
DTSTAMP:20260422T220454
CREATED:20260224T171937Z
LAST-MODIFIED:20260225T132558Z
UID:10002548-1911214800-1911218400@bikeboxproject.org
SUMMARY:RSB Frazier Class
DESCRIPTION:Level 4 Rock Steady Boxing class; severe symptoms of PD using an assistive device; requires volunteer for assistance
URL:https://bikeboxproject.org/calendar1/rsb-frazier-class/2030-07-25/
CATEGORIES:RSB Frazier Class
END:VEVENT
BEGIN:VEVENT
DTSTART;TZID=America/New_York:20300730T130000
DTEND;TZID=America/New_York:20300730T140000
DTSTAMP:20260422T220454
CREATED:20260224T171937Z
LAST-MODIFIED:20260225T132558Z
UID:10002549-1911646800-1911650400@bikeboxproject.org
SUMMARY:RSB Frazier Class
DESCRIPTION:Level 4 Rock Steady Boxing class; severe symptoms of PD using an assistive device; requires volunteer for assistance
URL:https://bikeboxproject.org/calendar1/rsb-frazier-class/2030-07-30/
CATEGORIES:RSB Frazier Class
END:VEVENT
BEGIN:VEVENT
DTSTART;TZID=America/New_York:20300801T130000
DTEND;TZID=America/New_York:20300801T140000
DTSTAMP:20260422T220454
CREATED:20260224T171937Z
LAST-MODIFIED:20260225T132558Z
UID:10002550-1911819600-1911823200@bikeboxproject.org
SUMMARY:RSB Frazier Class
DESCRIPTION:Level 4 Rock Steady Boxing class; severe symptoms of PD using an assistive device; requires volunteer for assistance
URL:https://bikeboxproject.org/calendar1/rsb-frazier-class/2030-08-01/
CATEGORIES:RSB Frazier Class
END:VEVENT
BEGIN:VEVENT
DTSTART;TZID=America/New_York:20300806T130000
DTEND;TZID=America/New_York:20300806T140000
DTSTAMP:20260422T220454
CREATED:20260224T171937Z
LAST-MODIFIED:20260225T132558Z
UID:10002551-1912251600-1912255200@bikeboxproject.org
SUMMARY:RSB Frazier Class
DESCRIPTION:Level 4 Rock Steady Boxing class; severe symptoms of PD using an assistive device; requires volunteer for assistance
URL:https://bikeboxproject.org/calendar1/rsb-frazier-class/2030-08-06/
CATEGORIES:RSB Frazier Class
END:VEVENT
BEGIN:VEVENT
DTSTART;TZID=America/New_York:20300808T130000
DTEND;TZID=America/New_York:20300808T140000
DTSTAMP:20260422T220454
CREATED:20260224T171937Z
LAST-MODIFIED:20260225T132558Z
UID:10002552-1912424400-1912428000@bikeboxproject.org
SUMMARY:RSB Frazier Class
DESCRIPTION:Level 4 Rock Steady Boxing class; severe symptoms of PD using an assistive device; requires volunteer for assistance
URL:https://bikeboxproject.org/calendar1/rsb-frazier-class/2030-08-08/
CATEGORIES:RSB Frazier Class
END:VEVENT
BEGIN:VEVENT
DTSTART;TZID=America/New_York:20300813T130000
DTEND;TZID=America/New_York:20300813T140000
DTSTAMP:20260422T220454
CREATED:20260224T171937Z
LAST-MODIFIED:20260225T132558Z
UID:10002553-1912856400-1912860000@bikeboxproject.org
SUMMARY:RSB Frazier Class
DESCRIPTION:Level 4 Rock Steady Boxing class; severe symptoms of PD using an assistive device; requires volunteer for assistance
URL:https://bikeboxproject.org/calendar1/rsb-frazier-class/2030-08-13/
CATEGORIES:RSB Frazier Class
END:VEVENT
BEGIN:VEVENT
DTSTART;TZID=America/New_York:20300815T130000
DTEND;TZID=America/New_York:20300815T140000
DTSTAMP:20260422T220454
CREATED:20260224T171937Z
LAST-MODIFIED:20260225T132558Z
UID:10002554-1913029200-1913032800@bikeboxproject.org
SUMMARY:RSB Frazier Class
DESCRIPTION:Level 4 Rock Steady Boxing class; severe symptoms of PD using an assistive device; requires volunteer for assistance
URL:https://bikeboxproject.org/calendar1/rsb-frazier-class/2030-08-15/
CATEGORIES:RSB Frazier Class
END:VEVENT
BEGIN:VEVENT
DTSTART;TZID=America/New_York:20300820T130000
DTEND;TZID=America/New_York:20300820T140000
DTSTAMP:20260422T220454
CREATED:20260224T171937Z
LAST-MODIFIED:20260225T132558Z
UID:10002555-1913461200-1913464800@bikeboxproject.org
SUMMARY:RSB Frazier Class
DESCRIPTION:Level 4 Rock Steady Boxing class; severe symptoms of PD using an assistive device; requires volunteer for assistance
URL:https://bikeboxproject.org/calendar1/rsb-frazier-class/2030-08-20/
CATEGORIES:RSB Frazier Class
END:VEVENT
BEGIN:VEVENT
DTSTART;TZID=America/New_York:20300822T130000
DTEND;TZID=America/New_York:20300822T140000
DTSTAMP:20260422T220454
CREATED:20260224T171937Z
LAST-MODIFIED:20260225T132558Z
UID:10002556-1913634000-1913637600@bikeboxproject.org
SUMMARY:RSB Frazier Class
DESCRIPTION:Level 4 Rock Steady Boxing class; severe symptoms of PD using an assistive device; requires volunteer for assistance
URL:https://bikeboxproject.org/calendar1/rsb-frazier-class/2030-08-22/
CATEGORIES:RSB Frazier Class
END:VEVENT
BEGIN:VEVENT
DTSTART;TZID=America/New_York:20300827T130000
DTEND;TZID=America/New_York:20300827T140000
DTSTAMP:20260422T220454
CREATED:20260224T171937Z
LAST-MODIFIED:20260225T132558Z
UID:10002557-1914066000-1914069600@bikeboxproject.org
SUMMARY:RSB Frazier Class
DESCRIPTION:Level 4 Rock Steady Boxing class; severe symptoms of PD using an assistive device; requires volunteer for assistance
URL:https://bikeboxproject.org/calendar1/rsb-frazier-class/2030-08-27/
CATEGORIES:RSB Frazier Class
END:VEVENT
BEGIN:VEVENT
DTSTART;TZID=America/New_York:20300829T130000
DTEND;TZID=America/New_York:20300829T140000
DTSTAMP:20260422T220454
CREATED:20260224T171937Z
LAST-MODIFIED:20260225T132558Z
UID:10002558-1914238800-1914242400@bikeboxproject.org
SUMMARY:RSB Frazier Class
DESCRIPTION:Level 4 Rock Steady Boxing class; severe symptoms of PD using an assistive device; requires volunteer for assistance
URL:https://bikeboxproject.org/calendar1/rsb-frazier-class/2030-08-29/
CATEGORIES:RSB Frazier Class
END:VEVENT
BEGIN:VEVENT
DTSTART;TZID=America/New_York:20300903T130000
DTEND;TZID=America/New_York:20300903T140000
DTSTAMP:20260422T220454
CREATED:20260224T171937Z
LAST-MODIFIED:20260225T132558Z
UID:10002559-1914670800-1914674400@bikeboxproject.org
SUMMARY:RSB Frazier Class
DESCRIPTION:Level 4 Rock Steady Boxing class; severe symptoms of PD using an assistive device; requires volunteer for assistance
URL:https://bikeboxproject.org/calendar1/rsb-frazier-class/2030-09-03/
CATEGORIES:RSB Frazier Class
END:VEVENT
BEGIN:VEVENT
DTSTART;TZID=America/New_York:20300905T130000
DTEND;TZID=America/New_York:20300905T140000
DTSTAMP:20260422T220454
CREATED:20260224T171937Z
LAST-MODIFIED:20260225T132558Z
UID:10002560-1914843600-1914847200@bikeboxproject.org
SUMMARY:RSB Frazier Class
DESCRIPTION:Level 4 Rock Steady Boxing class; severe symptoms of PD using an assistive device; requires volunteer for assistance
URL:https://bikeboxproject.org/calendar1/rsb-frazier-class/2030-09-05/
CATEGORIES:RSB Frazier Class
END:VEVENT
END:VCALENDAR