BEGIN:VCALENDAR
VERSION:2.0
PRODID:-//Bike Box Org - ECPv6.15.20//NONSGML v1.0//EN
CALSCALE:GREGORIAN
METHOD:PUBLISH
X-WR-CALNAME:Bike Box Org
X-ORIGINAL-URL:https://bikeboxproject.org
X-WR-CALDESC:Events for Bike Box Org
REFRESH-INTERVAL;VALUE=DURATION:PT1H
X-Robots-Tag:noindex
X-PUBLISHED-TTL:PT1H
BEGIN:VTIMEZONE
TZID:America/New_York
BEGIN:DAYLIGHT
TZOFFSETFROM:-0500
TZOFFSETTO:-0400
TZNAME:EDT
DTSTART:20260308T070000
END:DAYLIGHT
BEGIN:STANDARD
TZOFFSETFROM:-0400
TZOFFSETTO:-0500
TZNAME:EST
DTSTART:20261101T060000
END:STANDARD
BEGIN:DAYLIGHT
TZOFFSETFROM:-0500
TZOFFSETTO:-0400
TZNAME:EDT
DTSTART:20270314T070000
END:DAYLIGHT
BEGIN:STANDARD
TZOFFSETFROM:-0400
TZOFFSETTO:-0500
TZNAME:EST
DTSTART:20271107T060000
END:STANDARD
BEGIN:DAYLIGHT
TZOFFSETFROM:-0500
TZOFFSETTO:-0400
TZNAME:EDT
DTSTART:20280312T070000
END:DAYLIGHT
BEGIN:STANDARD
TZOFFSETFROM:-0400
TZOFFSETTO:-0500
TZNAME:EST
DTSTART:20281105T060000
END:STANDARD
END:VTIMEZONE
BEGIN:VEVENT
DTSTART;TZID=America/New_York:20270401T090000
DTEND;TZID=America/New_York:20270401T100000
DTSTAMP:20260421T060125
CREATED:20260224T171150Z
LAST-MODIFIED:20260225T132352Z
UID:10001160-1806570000-1806573600@bikeboxproject.org
SUMMARY:RSB Sugar Ray Class
DESCRIPTION:Level 2/3 Rock Steady Boxing class; more progressed PD symptoms; balance and PD related issues requiring some volunteer assistance
URL:https://bikeboxproject.org/calendar1/rsb-sugar-ray-class/2027-04-01/
CATEGORIES:RSB Sugar Ray Class
END:VEVENT
BEGIN:VEVENT
DTSTART;TZID=America/New_York:20270406T090000
DTEND;TZID=America/New_York:20270406T100000
DTSTAMP:20260421T060125
CREATED:20260224T171150Z
LAST-MODIFIED:20260225T132352Z
UID:10001161-1807002000-1807005600@bikeboxproject.org
SUMMARY:RSB Sugar Ray Class
DESCRIPTION:Level 2/3 Rock Steady Boxing class; more progressed PD symptoms; balance and PD related issues requiring some volunteer assistance
URL:https://bikeboxproject.org/calendar1/rsb-sugar-ray-class/2027-04-06/
CATEGORIES:RSB Sugar Ray Class
END:VEVENT
BEGIN:VEVENT
DTSTART;TZID=America/New_York:20270408T090000
DTEND;TZID=America/New_York:20270408T100000
DTSTAMP:20260421T060125
CREATED:20260224T171150Z
LAST-MODIFIED:20260225T132352Z
UID:10001162-1807174800-1807178400@bikeboxproject.org
SUMMARY:RSB Sugar Ray Class
DESCRIPTION:Level 2/3 Rock Steady Boxing class; more progressed PD symptoms; balance and PD related issues requiring some volunteer assistance
URL:https://bikeboxproject.org/calendar1/rsb-sugar-ray-class/2027-04-08/
CATEGORIES:RSB Sugar Ray Class
END:VEVENT
BEGIN:VEVENT
DTSTART;TZID=America/New_York:20270413T090000
DTEND;TZID=America/New_York:20270413T100000
DTSTAMP:20260421T060125
CREATED:20260224T171150Z
LAST-MODIFIED:20260225T132352Z
UID:10001163-1807606800-1807610400@bikeboxproject.org
SUMMARY:RSB Sugar Ray Class
DESCRIPTION:Level 2/3 Rock Steady Boxing class; more progressed PD symptoms; balance and PD related issues requiring some volunteer assistance
URL:https://bikeboxproject.org/calendar1/rsb-sugar-ray-class/2027-04-13/
CATEGORIES:RSB Sugar Ray Class
END:VEVENT
BEGIN:VEVENT
DTSTART;TZID=America/New_York:20270415T090000
DTEND;TZID=America/New_York:20270415T100000
DTSTAMP:20260421T060125
CREATED:20260224T171150Z
LAST-MODIFIED:20260225T132352Z
UID:10001164-1807779600-1807783200@bikeboxproject.org
SUMMARY:RSB Sugar Ray Class
DESCRIPTION:Level 2/3 Rock Steady Boxing class; more progressed PD symptoms; balance and PD related issues requiring some volunteer assistance
URL:https://bikeboxproject.org/calendar1/rsb-sugar-ray-class/2027-04-15/
CATEGORIES:RSB Sugar Ray Class
END:VEVENT
BEGIN:VEVENT
DTSTART;TZID=America/New_York:20270420T090000
DTEND;TZID=America/New_York:20270420T100000
DTSTAMP:20260421T060125
CREATED:20260224T171150Z
LAST-MODIFIED:20260225T132352Z
UID:10001165-1808211600-1808215200@bikeboxproject.org
SUMMARY:RSB Sugar Ray Class
DESCRIPTION:Level 2/3 Rock Steady Boxing class; more progressed PD symptoms; balance and PD related issues requiring some volunteer assistance
URL:https://bikeboxproject.org/calendar1/rsb-sugar-ray-class/2027-04-20/
CATEGORIES:RSB Sugar Ray Class
END:VEVENT
BEGIN:VEVENT
DTSTART;TZID=America/New_York:20270422T090000
DTEND;TZID=America/New_York:20270422T100000
DTSTAMP:20260421T060125
CREATED:20260224T171150Z
LAST-MODIFIED:20260225T132352Z
UID:10001166-1808384400-1808388000@bikeboxproject.org
SUMMARY:RSB Sugar Ray Class
DESCRIPTION:Level 2/3 Rock Steady Boxing class; more progressed PD symptoms; balance and PD related issues requiring some volunteer assistance
URL:https://bikeboxproject.org/calendar1/rsb-sugar-ray-class/2027-04-22/
CATEGORIES:RSB Sugar Ray Class
END:VEVENT
BEGIN:VEVENT
DTSTART;TZID=America/New_York:20270427T090000
DTEND;TZID=America/New_York:20270427T100000
DTSTAMP:20260421T060125
CREATED:20260224T171150Z
LAST-MODIFIED:20260225T132352Z
UID:10001167-1808816400-1808820000@bikeboxproject.org
SUMMARY:RSB Sugar Ray Class
DESCRIPTION:Level 2/3 Rock Steady Boxing class; more progressed PD symptoms; balance and PD related issues requiring some volunteer assistance
URL:https://bikeboxproject.org/calendar1/rsb-sugar-ray-class/2027-04-27/
CATEGORIES:RSB Sugar Ray Class
END:VEVENT
BEGIN:VEVENT
DTSTART;TZID=America/New_York:20270429T090000
DTEND;TZID=America/New_York:20270429T100000
DTSTAMP:20260421T060125
CREATED:20260224T171150Z
LAST-MODIFIED:20260225T132352Z
UID:10001168-1808989200-1808992800@bikeboxproject.org
SUMMARY:RSB Sugar Ray Class
DESCRIPTION:Level 2/3 Rock Steady Boxing class; more progressed PD symptoms; balance and PD related issues requiring some volunteer assistance
URL:https://bikeboxproject.org/calendar1/rsb-sugar-ray-class/2027-04-29/
CATEGORIES:RSB Sugar Ray Class
END:VEVENT
END:VCALENDAR