BEGIN:VCALENDAR
VERSION:2.0
PRODID:-//Bike Box Org - ECPv6.15.20//NONSGML v1.0//EN
CALSCALE:GREGORIAN
METHOD:PUBLISH
X-ORIGINAL-URL:https://bikeboxproject.org
X-WR-CALDESC:Events for Bike Box Org
REFRESH-INTERVAL;VALUE=DURATION:PT1H
X-Robots-Tag:noindex
X-PUBLISHED-TTL:PT1H
BEGIN:VTIMEZONE
TZID:America/New_York
BEGIN:DAYLIGHT
TZOFFSETFROM:-0500
TZOFFSETTO:-0400
TZNAME:EDT
DTSTART:20270314T070000
END:DAYLIGHT
BEGIN:STANDARD
TZOFFSETFROM:-0400
TZOFFSETTO:-0500
TZNAME:EST
DTSTART:20271107T060000
END:STANDARD
BEGIN:DAYLIGHT
TZOFFSETFROM:-0500
TZOFFSETTO:-0400
TZNAME:EDT
DTSTART:20280312T070000
END:DAYLIGHT
BEGIN:STANDARD
TZOFFSETFROM:-0400
TZOFFSETTO:-0500
TZNAME:EST
DTSTART:20281105T060000
END:STANDARD
BEGIN:DAYLIGHT
TZOFFSETFROM:-0500
TZOFFSETTO:-0400
TZNAME:EDT
DTSTART:20290311T070000
END:DAYLIGHT
BEGIN:STANDARD
TZOFFSETFROM:-0400
TZOFFSETTO:-0500
TZNAME:EST
DTSTART:20291104T060000
END:STANDARD
BEGIN:DAYLIGHT
TZOFFSETFROM:-0500
TZOFFSETTO:-0400
TZNAME:EDT
DTSTART:20300310T070000
END:DAYLIGHT
BEGIN:STANDARD
TZOFFSETFROM:-0400
TZOFFSETTO:-0500
TZNAME:EST
DTSTART:20301103T060000
END:STANDARD
END:VTIMEZONE
BEGIN:VEVENT
DTSTART;TZID=America/New_York:20281128T090000
DTEND;TZID=America/New_York:20281128T100000
DTSTAMP:20260422T232626
CREATED:20260224T171150Z
LAST-MODIFIED:20260225T132352Z
UID:10001333-1859014800-1859018400@bikeboxproject.org
SUMMARY:RSB Sugar Ray Class
DESCRIPTION:Level 2/3 Rock Steady Boxing class; more progressed PD symptoms; balance and PD related issues requiring some volunteer assistance
URL:https://bikeboxproject.org/calendar1/rsb-sugar-ray-class/2028-11-28/
CATEGORIES:RSB Sugar Ray Class
END:VEVENT
BEGIN:VEVENT
DTSTART;TZID=America/New_York:20281130T090000
DTEND;TZID=America/New_York:20281130T100000
DTSTAMP:20260422T232626
CREATED:20260224T171150Z
LAST-MODIFIED:20260225T132352Z
UID:10001334-1859187600-1859191200@bikeboxproject.org
SUMMARY:RSB Sugar Ray Class
DESCRIPTION:Level 2/3 Rock Steady Boxing class; more progressed PD symptoms; balance and PD related issues requiring some volunteer assistance
URL:https://bikeboxproject.org/calendar1/rsb-sugar-ray-class/2028-11-30/
CATEGORIES:RSB Sugar Ray Class
END:VEVENT
BEGIN:VEVENT
DTSTART;TZID=America/New_York:20281205T090000
DTEND;TZID=America/New_York:20281205T100000
DTSTAMP:20260422T232626
CREATED:20260224T171150Z
LAST-MODIFIED:20260225T132352Z
UID:10001335-1859619600-1859623200@bikeboxproject.org
SUMMARY:RSB Sugar Ray Class
DESCRIPTION:Level 2/3 Rock Steady Boxing class; more progressed PD symptoms; balance and PD related issues requiring some volunteer assistance
URL:https://bikeboxproject.org/calendar1/rsb-sugar-ray-class/2028-12-05/
CATEGORIES:RSB Sugar Ray Class
END:VEVENT
BEGIN:VEVENT
DTSTART;TZID=America/New_York:20281207T090000
DTEND;TZID=America/New_York:20281207T100000
DTSTAMP:20260422T232626
CREATED:20260224T171150Z
LAST-MODIFIED:20260225T132352Z
UID:10001336-1859792400-1859796000@bikeboxproject.org
SUMMARY:RSB Sugar Ray Class
DESCRIPTION:Level 2/3 Rock Steady Boxing class; more progressed PD symptoms; balance and PD related issues requiring some volunteer assistance
URL:https://bikeboxproject.org/calendar1/rsb-sugar-ray-class/2028-12-07/
CATEGORIES:RSB Sugar Ray Class
END:VEVENT
BEGIN:VEVENT
DTSTART;TZID=America/New_York:20281212T090000
DTEND;TZID=America/New_York:20281212T100000
DTSTAMP:20260422T232626
CREATED:20260224T171150Z
LAST-MODIFIED:20260225T132352Z
UID:10001337-1860224400-1860228000@bikeboxproject.org
SUMMARY:RSB Sugar Ray Class
DESCRIPTION:Level 2/3 Rock Steady Boxing class; more progressed PD symptoms; balance and PD related issues requiring some volunteer assistance
URL:https://bikeboxproject.org/calendar1/rsb-sugar-ray-class/2028-12-12/
CATEGORIES:RSB Sugar Ray Class
END:VEVENT
BEGIN:VEVENT
DTSTART;TZID=America/New_York:20281214T090000
DTEND;TZID=America/New_York:20281214T100000
DTSTAMP:20260422T232626
CREATED:20260224T171150Z
LAST-MODIFIED:20260225T132352Z
UID:10001338-1860397200-1860400800@bikeboxproject.org
SUMMARY:RSB Sugar Ray Class
DESCRIPTION:Level 2/3 Rock Steady Boxing class; more progressed PD symptoms; balance and PD related issues requiring some volunteer assistance
URL:https://bikeboxproject.org/calendar1/rsb-sugar-ray-class/2028-12-14/
CATEGORIES:RSB Sugar Ray Class
END:VEVENT
BEGIN:VEVENT
DTSTART;TZID=America/New_York:20281219T090000
DTEND;TZID=America/New_York:20281219T100000
DTSTAMP:20260422T232626
CREATED:20260224T171150Z
LAST-MODIFIED:20260225T132352Z
UID:10001339-1860829200-1860832800@bikeboxproject.org
SUMMARY:RSB Sugar Ray Class
DESCRIPTION:Level 2/3 Rock Steady Boxing class; more progressed PD symptoms; balance and PD related issues requiring some volunteer assistance
URL:https://bikeboxproject.org/calendar1/rsb-sugar-ray-class/2028-12-19/
CATEGORIES:RSB Sugar Ray Class
END:VEVENT
BEGIN:VEVENT
DTSTART;TZID=America/New_York:20281221T090000
DTEND;TZID=America/New_York:20281221T100000
DTSTAMP:20260422T232626
CREATED:20260224T171150Z
LAST-MODIFIED:20260225T132352Z
UID:10001340-1861002000-1861005600@bikeboxproject.org
SUMMARY:RSB Sugar Ray Class
DESCRIPTION:Level 2/3 Rock Steady Boxing class; more progressed PD symptoms; balance and PD related issues requiring some volunteer assistance
URL:https://bikeboxproject.org/calendar1/rsb-sugar-ray-class/2028-12-21/
CATEGORIES:RSB Sugar Ray Class
END:VEVENT
BEGIN:VEVENT
DTSTART;TZID=America/New_York:20281226T090000
DTEND;TZID=America/New_York:20281226T100000
DTSTAMP:20260422T232626
CREATED:20260224T171150Z
LAST-MODIFIED:20260225T132352Z
UID:10001341-1861434000-1861437600@bikeboxproject.org
SUMMARY:RSB Sugar Ray Class
DESCRIPTION:Level 2/3 Rock Steady Boxing class; more progressed PD symptoms; balance and PD related issues requiring some volunteer assistance
URL:https://bikeboxproject.org/calendar1/rsb-sugar-ray-class/2028-12-26/
CATEGORIES:RSB Sugar Ray Class
END:VEVENT
BEGIN:VEVENT
DTSTART;TZID=America/New_York:20281228T090000
DTEND;TZID=America/New_York:20281228T100000
DTSTAMP:20260422T232626
CREATED:20260224T171150Z
LAST-MODIFIED:20260225T132352Z
UID:10001342-1861606800-1861610400@bikeboxproject.org
SUMMARY:RSB Sugar Ray Class
DESCRIPTION:Level 2/3 Rock Steady Boxing class; more progressed PD symptoms; balance and PD related issues requiring some volunteer assistance
URL:https://bikeboxproject.org/calendar1/rsb-sugar-ray-class/2028-12-28/
CATEGORIES:RSB Sugar Ray Class
END:VEVENT
BEGIN:VEVENT
DTSTART;TZID=America/New_York:20290102T090000
DTEND;TZID=America/New_York:20290102T100000
DTSTAMP:20260422T232626
CREATED:20260224T171150Z
LAST-MODIFIED:20260225T132352Z
UID:10001343-1862038800-1862042400@bikeboxproject.org
SUMMARY:RSB Sugar Ray Class
DESCRIPTION:Level 2/3 Rock Steady Boxing class; more progressed PD symptoms; balance and PD related issues requiring some volunteer assistance
URL:https://bikeboxproject.org/calendar1/rsb-sugar-ray-class/2029-01-02/
CATEGORIES:RSB Sugar Ray Class
END:VEVENT
BEGIN:VEVENT
DTSTART;TZID=America/New_York:20290104T090000
DTEND;TZID=America/New_York:20290104T100000
DTSTAMP:20260422T232626
CREATED:20260224T171150Z
LAST-MODIFIED:20260225T132352Z
UID:10001344-1862211600-1862215200@bikeboxproject.org
SUMMARY:RSB Sugar Ray Class
DESCRIPTION:Level 2/3 Rock Steady Boxing class; more progressed PD symptoms; balance and PD related issues requiring some volunteer assistance
URL:https://bikeboxproject.org/calendar1/rsb-sugar-ray-class/2029-01-04/
CATEGORIES:RSB Sugar Ray Class
END:VEVENT
BEGIN:VEVENT
DTSTART;TZID=America/New_York:20290109T090000
DTEND;TZID=America/New_York:20290109T100000
DTSTAMP:20260422T232626
CREATED:20260224T171150Z
LAST-MODIFIED:20260225T132352Z
UID:10001345-1862643600-1862647200@bikeboxproject.org
SUMMARY:RSB Sugar Ray Class
DESCRIPTION:Level 2/3 Rock Steady Boxing class; more progressed PD symptoms; balance and PD related issues requiring some volunteer assistance
URL:https://bikeboxproject.org/calendar1/rsb-sugar-ray-class/2029-01-09/
CATEGORIES:RSB Sugar Ray Class
END:VEVENT
BEGIN:VEVENT
DTSTART;TZID=America/New_York:20290111T090000
DTEND;TZID=America/New_York:20290111T100000
DTSTAMP:20260422T232626
CREATED:20260224T171150Z
LAST-MODIFIED:20260225T132352Z
UID:10001346-1862816400-1862820000@bikeboxproject.org
SUMMARY:RSB Sugar Ray Class
DESCRIPTION:Level 2/3 Rock Steady Boxing class; more progressed PD symptoms; balance and PD related issues requiring some volunteer assistance
URL:https://bikeboxproject.org/calendar1/rsb-sugar-ray-class/2029-01-11/
CATEGORIES:RSB Sugar Ray Class
END:VEVENT
BEGIN:VEVENT
DTSTART;TZID=America/New_York:20290116T090000
DTEND;TZID=America/New_York:20290116T100000
DTSTAMP:20260422T232626
CREATED:20260224T171150Z
LAST-MODIFIED:20260225T132352Z
UID:10001347-1863248400-1863252000@bikeboxproject.org
SUMMARY:RSB Sugar Ray Class
DESCRIPTION:Level 2/3 Rock Steady Boxing class; more progressed PD symptoms; balance and PD related issues requiring some volunteer assistance
URL:https://bikeboxproject.org/calendar1/rsb-sugar-ray-class/2029-01-16/
CATEGORIES:RSB Sugar Ray Class
END:VEVENT
BEGIN:VEVENT
DTSTART;TZID=America/New_York:20290118T090000
DTEND;TZID=America/New_York:20290118T100000
DTSTAMP:20260422T232626
CREATED:20260224T171150Z
LAST-MODIFIED:20260225T132352Z
UID:10001348-1863421200-1863424800@bikeboxproject.org
SUMMARY:RSB Sugar Ray Class
DESCRIPTION:Level 2/3 Rock Steady Boxing class; more progressed PD symptoms; balance and PD related issues requiring some volunteer assistance
URL:https://bikeboxproject.org/calendar1/rsb-sugar-ray-class/2029-01-18/
CATEGORIES:RSB Sugar Ray Class
END:VEVENT
BEGIN:VEVENT
DTSTART;TZID=America/New_York:20290123T090000
DTEND;TZID=America/New_York:20290123T100000
DTSTAMP:20260422T232626
CREATED:20260224T171150Z
LAST-MODIFIED:20260225T132352Z
UID:10001349-1863853200-1863856800@bikeboxproject.org
SUMMARY:RSB Sugar Ray Class
DESCRIPTION:Level 2/3 Rock Steady Boxing class; more progressed PD symptoms; balance and PD related issues requiring some volunteer assistance
URL:https://bikeboxproject.org/calendar1/rsb-sugar-ray-class/2029-01-23/
CATEGORIES:RSB Sugar Ray Class
END:VEVENT
BEGIN:VEVENT
DTSTART;TZID=America/New_York:20290125T090000
DTEND;TZID=America/New_York:20290125T100000
DTSTAMP:20260422T232626
CREATED:20260224T171150Z
LAST-MODIFIED:20260225T132352Z
UID:10001350-1864026000-1864029600@bikeboxproject.org
SUMMARY:RSB Sugar Ray Class
DESCRIPTION:Level 2/3 Rock Steady Boxing class; more progressed PD symptoms; balance and PD related issues requiring some volunteer assistance
URL:https://bikeboxproject.org/calendar1/rsb-sugar-ray-class/2029-01-25/
CATEGORIES:RSB Sugar Ray Class
END:VEVENT
BEGIN:VEVENT
DTSTART;TZID=America/New_York:20290130T090000
DTEND;TZID=America/New_York:20290130T100000
DTSTAMP:20260422T232626
CREATED:20260224T171150Z
LAST-MODIFIED:20260225T132352Z
UID:10001351-1864458000-1864461600@bikeboxproject.org
SUMMARY:RSB Sugar Ray Class
DESCRIPTION:Level 2/3 Rock Steady Boxing class; more progressed PD symptoms; balance and PD related issues requiring some volunteer assistance
URL:https://bikeboxproject.org/calendar1/rsb-sugar-ray-class/2029-01-30/
CATEGORIES:RSB Sugar Ray Class
END:VEVENT
BEGIN:VEVENT
DTSTART;TZID=America/New_York:20290201T090000
DTEND;TZID=America/New_York:20290201T100000
DTSTAMP:20260422T232626
CREATED:20260224T171150Z
LAST-MODIFIED:20260225T132352Z
UID:10001352-1864630800-1864634400@bikeboxproject.org
SUMMARY:RSB Sugar Ray Class
DESCRIPTION:Level 2/3 Rock Steady Boxing class; more progressed PD symptoms; balance and PD related issues requiring some volunteer assistance
URL:https://bikeboxproject.org/calendar1/rsb-sugar-ray-class/2029-02-01/
CATEGORIES:RSB Sugar Ray Class
END:VEVENT
BEGIN:VEVENT
DTSTART;TZID=America/New_York:20290206T090000
DTEND;TZID=America/New_York:20290206T100000
DTSTAMP:20260422T232626
CREATED:20260224T171150Z
LAST-MODIFIED:20260225T132352Z
UID:10001353-1865062800-1865066400@bikeboxproject.org
SUMMARY:RSB Sugar Ray Class
DESCRIPTION:Level 2/3 Rock Steady Boxing class; more progressed PD symptoms; balance and PD related issues requiring some volunteer assistance
URL:https://bikeboxproject.org/calendar1/rsb-sugar-ray-class/2029-02-06/
CATEGORIES:RSB Sugar Ray Class
END:VEVENT
BEGIN:VEVENT
DTSTART;TZID=America/New_York:20290208T090000
DTEND;TZID=America/New_York:20290208T100000
DTSTAMP:20260422T232626
CREATED:20260224T171150Z
LAST-MODIFIED:20260225T132352Z
UID:10001354-1865235600-1865239200@bikeboxproject.org
SUMMARY:RSB Sugar Ray Class
DESCRIPTION:Level 2/3 Rock Steady Boxing class; more progressed PD symptoms; balance and PD related issues requiring some volunteer assistance
URL:https://bikeboxproject.org/calendar1/rsb-sugar-ray-class/2029-02-08/
CATEGORIES:RSB Sugar Ray Class
END:VEVENT
BEGIN:VEVENT
DTSTART;TZID=America/New_York:20290213T090000
DTEND;TZID=America/New_York:20290213T100000
DTSTAMP:20260422T232626
CREATED:20260224T171150Z
LAST-MODIFIED:20260225T132352Z
UID:10001355-1865667600-1865671200@bikeboxproject.org
SUMMARY:RSB Sugar Ray Class
DESCRIPTION:Level 2/3 Rock Steady Boxing class; more progressed PD symptoms; balance and PD related issues requiring some volunteer assistance
URL:https://bikeboxproject.org/calendar1/rsb-sugar-ray-class/2029-02-13/
CATEGORIES:RSB Sugar Ray Class
END:VEVENT
BEGIN:VEVENT
DTSTART;TZID=America/New_York:20290215T090000
DTEND;TZID=America/New_York:20290215T100000
DTSTAMP:20260422T232627
CREATED:20260224T171150Z
LAST-MODIFIED:20260225T132352Z
UID:10001356-1865840400-1865844000@bikeboxproject.org
SUMMARY:RSB Sugar Ray Class
DESCRIPTION:Level 2/3 Rock Steady Boxing class; more progressed PD symptoms; balance and PD related issues requiring some volunteer assistance
URL:https://bikeboxproject.org/calendar1/rsb-sugar-ray-class/2029-02-15/
CATEGORIES:RSB Sugar Ray Class
END:VEVENT
BEGIN:VEVENT
DTSTART;TZID=America/New_York:20290220T090000
DTEND;TZID=America/New_York:20290220T100000
DTSTAMP:20260422T232627
CREATED:20260224T171150Z
LAST-MODIFIED:20260225T132352Z
UID:10001357-1866272400-1866276000@bikeboxproject.org
SUMMARY:RSB Sugar Ray Class
DESCRIPTION:Level 2/3 Rock Steady Boxing class; more progressed PD symptoms; balance and PD related issues requiring some volunteer assistance
URL:https://bikeboxproject.org/calendar1/rsb-sugar-ray-class/2029-02-20/
CATEGORIES:RSB Sugar Ray Class
END:VEVENT
BEGIN:VEVENT
DTSTART;TZID=America/New_York:20290222T090000
DTEND;TZID=America/New_York:20290222T100000
DTSTAMP:20260422T232627
CREATED:20260224T171150Z
LAST-MODIFIED:20260225T132352Z
UID:10001358-1866445200-1866448800@bikeboxproject.org
SUMMARY:RSB Sugar Ray Class
DESCRIPTION:Level 2/3 Rock Steady Boxing class; more progressed PD symptoms; balance and PD related issues requiring some volunteer assistance
URL:https://bikeboxproject.org/calendar1/rsb-sugar-ray-class/2029-02-22/
CATEGORIES:RSB Sugar Ray Class
END:VEVENT
BEGIN:VEVENT
DTSTART;TZID=America/New_York:20290227T090000
DTEND;TZID=America/New_York:20290227T100000
DTSTAMP:20260422T232627
CREATED:20260224T171150Z
LAST-MODIFIED:20260225T132352Z
UID:10001359-1866877200-1866880800@bikeboxproject.org
SUMMARY:RSB Sugar Ray Class
DESCRIPTION:Level 2/3 Rock Steady Boxing class; more progressed PD symptoms; balance and PD related issues requiring some volunteer assistance
URL:https://bikeboxproject.org/calendar1/rsb-sugar-ray-class/2029-02-27/
CATEGORIES:RSB Sugar Ray Class
END:VEVENT
BEGIN:VEVENT
DTSTART;TZID=America/New_York:20290301T090000
DTEND;TZID=America/New_York:20290301T100000
DTSTAMP:20260422T232627
CREATED:20260224T171150Z
LAST-MODIFIED:20260225T132352Z
UID:10001360-1867050000-1867053600@bikeboxproject.org
SUMMARY:RSB Sugar Ray Class
DESCRIPTION:Level 2/3 Rock Steady Boxing class; more progressed PD symptoms; balance and PD related issues requiring some volunteer assistance
URL:https://bikeboxproject.org/calendar1/rsb-sugar-ray-class/2029-03-01/
CATEGORIES:RSB Sugar Ray Class
END:VEVENT
BEGIN:VEVENT
DTSTART;TZID=America/New_York:20290306T090000
DTEND;TZID=America/New_York:20290306T100000
DTSTAMP:20260422T232627
CREATED:20260224T171150Z
LAST-MODIFIED:20260225T132352Z
UID:10001361-1867482000-1867485600@bikeboxproject.org
SUMMARY:RSB Sugar Ray Class
DESCRIPTION:Level 2/3 Rock Steady Boxing class; more progressed PD symptoms; balance and PD related issues requiring some volunteer assistance
URL:https://bikeboxproject.org/calendar1/rsb-sugar-ray-class/2029-03-06/
CATEGORIES:RSB Sugar Ray Class
END:VEVENT
BEGIN:VEVENT
DTSTART;TZID=America/New_York:20290308T090000
DTEND;TZID=America/New_York:20290308T100000
DTSTAMP:20260422T232627
CREATED:20260224T171150Z
LAST-MODIFIED:20260225T132352Z
UID:10001362-1867654800-1867658400@bikeboxproject.org
SUMMARY:RSB Sugar Ray Class
DESCRIPTION:Level 2/3 Rock Steady Boxing class; more progressed PD symptoms; balance and PD related issues requiring some volunteer assistance
URL:https://bikeboxproject.org/calendar1/rsb-sugar-ray-class/2029-03-08/
CATEGORIES:RSB Sugar Ray Class
END:VEVENT
END:VCALENDAR