BEGIN:VCALENDAR
VERSION:2.0
PRODID:-//Bike Box Org - ECPv6.15.20//NONSGML v1.0//EN
CALSCALE:GREGORIAN
METHOD:PUBLISH
X-ORIGINAL-URL:https://bikeboxproject.org
X-WR-CALDESC:Events for Bike Box Org
REFRESH-INTERVAL;VALUE=DURATION:PT1H
X-Robots-Tag:noindex
X-PUBLISHED-TTL:PT1H
BEGIN:VTIMEZONE
TZID:America/New_York
BEGIN:DAYLIGHT
TZOFFSETFROM:-0500
TZOFFSETTO:-0400
TZNAME:EDT
DTSTART:20280312T070000
END:DAYLIGHT
BEGIN:STANDARD
TZOFFSETFROM:-0400
TZOFFSETTO:-0500
TZNAME:EST
DTSTART:20281105T060000
END:STANDARD
BEGIN:DAYLIGHT
TZOFFSETFROM:-0500
TZOFFSETTO:-0400
TZNAME:EDT
DTSTART:20290311T070000
END:DAYLIGHT
BEGIN:STANDARD
TZOFFSETFROM:-0400
TZOFFSETTO:-0500
TZNAME:EST
DTSTART:20291104T060000
END:STANDARD
BEGIN:DAYLIGHT
TZOFFSETFROM:-0500
TZOFFSETTO:-0400
TZNAME:EDT
DTSTART:20300310T070000
END:DAYLIGHT
BEGIN:STANDARD
TZOFFSETFROM:-0400
TZOFFSETTO:-0500
TZNAME:EST
DTSTART:20301103T060000
END:STANDARD
END:VTIMEZONE
BEGIN:VEVENT
DTSTART;TZID=America/New_York:20290910T123000
DTEND;TZID=America/New_York:20290910T140000
DTSTAMP:20260422T213904
CREATED:20260224T163206Z
LAST-MODIFIED:20260225T131744Z
UID:10000893-1883737800-1883743200@bikeboxproject.org
SUMMARY:RSB Tyson Class
DESCRIPTION:Level 2 Rock Steady Boxing class; independent w/ moderate PD symptoms; some modifications possible
URL:https://bikeboxproject.org/calendar1/rsb-tyson-class/2029-09-10/
LOCATION:Rock Steady Boxing\, 1720 Trent Blvd\, New Bern\, NC\, 28560\, United States
CATEGORIES:RSB Tyson Class
END:VEVENT
BEGIN:VEVENT
DTSTART;TZID=America/New_York:20290912T123000
DTEND;TZID=America/New_York:20290912T140000
DTSTAMP:20260422T213904
CREATED:20260224T163206Z
LAST-MODIFIED:20260225T131744Z
UID:10000894-1883910600-1883916000@bikeboxproject.org
SUMMARY:RSB Tyson Class
DESCRIPTION:Level 2 Rock Steady Boxing class; independent w/ moderate PD symptoms; some modifications possible
URL:https://bikeboxproject.org/calendar1/rsb-tyson-class/2029-09-12/
LOCATION:Rock Steady Boxing\, 1720 Trent Blvd\, New Bern\, NC\, 28560\, United States
CATEGORIES:RSB Tyson Class
END:VEVENT
BEGIN:VEVENT
DTSTART;TZID=America/New_York:20290917T123000
DTEND;TZID=America/New_York:20290917T140000
DTSTAMP:20260422T213904
CREATED:20260224T163206Z
LAST-MODIFIED:20260225T131744Z
UID:10000895-1884342600-1884348000@bikeboxproject.org
SUMMARY:RSB Tyson Class
DESCRIPTION:Level 2 Rock Steady Boxing class; independent w/ moderate PD symptoms; some modifications possible
URL:https://bikeboxproject.org/calendar1/rsb-tyson-class/2029-09-17/
LOCATION:Rock Steady Boxing\, 1720 Trent Blvd\, New Bern\, NC\, 28560\, United States
CATEGORIES:RSB Tyson Class
END:VEVENT
BEGIN:VEVENT
DTSTART;TZID=America/New_York:20290919T123000
DTEND;TZID=America/New_York:20290919T140000
DTSTAMP:20260422T213904
CREATED:20260224T163206Z
LAST-MODIFIED:20260225T131744Z
UID:10000896-1884515400-1884520800@bikeboxproject.org
SUMMARY:RSB Tyson Class
DESCRIPTION:Level 2 Rock Steady Boxing class; independent w/ moderate PD symptoms; some modifications possible
URL:https://bikeboxproject.org/calendar1/rsb-tyson-class/2029-09-19/
LOCATION:Rock Steady Boxing\, 1720 Trent Blvd\, New Bern\, NC\, 28560\, United States
CATEGORIES:RSB Tyson Class
END:VEVENT
BEGIN:VEVENT
DTSTART;TZID=America/New_York:20290924T123000
DTEND;TZID=America/New_York:20290924T140000
DTSTAMP:20260422T213904
CREATED:20260224T163206Z
LAST-MODIFIED:20260225T131744Z
UID:10000897-1884947400-1884952800@bikeboxproject.org
SUMMARY:RSB Tyson Class
DESCRIPTION:Level 2 Rock Steady Boxing class; independent w/ moderate PD symptoms; some modifications possible
URL:https://bikeboxproject.org/calendar1/rsb-tyson-class/2029-09-24/
LOCATION:Rock Steady Boxing\, 1720 Trent Blvd\, New Bern\, NC\, 28560\, United States
CATEGORIES:RSB Tyson Class
END:VEVENT
BEGIN:VEVENT
DTSTART;TZID=America/New_York:20290926T123000
DTEND;TZID=America/New_York:20290926T140000
DTSTAMP:20260422T213904
CREATED:20260224T163206Z
LAST-MODIFIED:20260225T131744Z
UID:10000898-1885120200-1885125600@bikeboxproject.org
SUMMARY:RSB Tyson Class
DESCRIPTION:Level 2 Rock Steady Boxing class; independent w/ moderate PD symptoms; some modifications possible
URL:https://bikeboxproject.org/calendar1/rsb-tyson-class/2029-09-26/
LOCATION:Rock Steady Boxing\, 1720 Trent Blvd\, New Bern\, NC\, 28560\, United States
CATEGORIES:RSB Tyson Class
END:VEVENT
BEGIN:VEVENT
DTSTART;TZID=America/New_York:20291001T123000
DTEND;TZID=America/New_York:20291001T140000
DTSTAMP:20260422T213904
CREATED:20260224T163206Z
LAST-MODIFIED:20260225T131744Z
UID:10000899-1885552200-1885557600@bikeboxproject.org
SUMMARY:RSB Tyson Class
DESCRIPTION:Level 2 Rock Steady Boxing class; independent w/ moderate PD symptoms; some modifications possible
URL:https://bikeboxproject.org/calendar1/rsb-tyson-class/2029-10-01/
LOCATION:Rock Steady Boxing\, 1720 Trent Blvd\, New Bern\, NC\, 28560\, United States
CATEGORIES:RSB Tyson Class
END:VEVENT
BEGIN:VEVENT
DTSTART;TZID=America/New_York:20291003T123000
DTEND;TZID=America/New_York:20291003T140000
DTSTAMP:20260422T213904
CREATED:20260224T163206Z
LAST-MODIFIED:20260225T131744Z
UID:10000900-1885725000-1885730400@bikeboxproject.org
SUMMARY:RSB Tyson Class
DESCRIPTION:Level 2 Rock Steady Boxing class; independent w/ moderate PD symptoms; some modifications possible
URL:https://bikeboxproject.org/calendar1/rsb-tyson-class/2029-10-03/
LOCATION:Rock Steady Boxing\, 1720 Trent Blvd\, New Bern\, NC\, 28560\, United States
CATEGORIES:RSB Tyson Class
END:VEVENT
BEGIN:VEVENT
DTSTART;TZID=America/New_York:20291008T123000
DTEND;TZID=America/New_York:20291008T140000
DTSTAMP:20260422T213904
CREATED:20260224T163206Z
LAST-MODIFIED:20260225T131744Z
UID:10000901-1886157000-1886162400@bikeboxproject.org
SUMMARY:RSB Tyson Class
DESCRIPTION:Level 2 Rock Steady Boxing class; independent w/ moderate PD symptoms; some modifications possible
URL:https://bikeboxproject.org/calendar1/rsb-tyson-class/2029-10-08/
LOCATION:Rock Steady Boxing\, 1720 Trent Blvd\, New Bern\, NC\, 28560\, United States
CATEGORIES:RSB Tyson Class
END:VEVENT
BEGIN:VEVENT
DTSTART;TZID=America/New_York:20291010T123000
DTEND;TZID=America/New_York:20291010T140000
DTSTAMP:20260422T213904
CREATED:20260224T163206Z
LAST-MODIFIED:20260225T131744Z
UID:10000902-1886329800-1886335200@bikeboxproject.org
SUMMARY:RSB Tyson Class
DESCRIPTION:Level 2 Rock Steady Boxing class; independent w/ moderate PD symptoms; some modifications possible
URL:https://bikeboxproject.org/calendar1/rsb-tyson-class/2029-10-10/
LOCATION:Rock Steady Boxing\, 1720 Trent Blvd\, New Bern\, NC\, 28560\, United States
CATEGORIES:RSB Tyson Class
END:VEVENT
BEGIN:VEVENT
DTSTART;TZID=America/New_York:20291015T123000
DTEND;TZID=America/New_York:20291015T140000
DTSTAMP:20260422T213904
CREATED:20260224T163206Z
LAST-MODIFIED:20260225T131744Z
UID:10000903-1886761800-1886767200@bikeboxproject.org
SUMMARY:RSB Tyson Class
DESCRIPTION:Level 2 Rock Steady Boxing class; independent w/ moderate PD symptoms; some modifications possible
URL:https://bikeboxproject.org/calendar1/rsb-tyson-class/2029-10-15/
LOCATION:Rock Steady Boxing\, 1720 Trent Blvd\, New Bern\, NC\, 28560\, United States
CATEGORIES:RSB Tyson Class
END:VEVENT
BEGIN:VEVENT
DTSTART;TZID=America/New_York:20291017T123000
DTEND;TZID=America/New_York:20291017T140000
DTSTAMP:20260422T213904
CREATED:20260224T163206Z
LAST-MODIFIED:20260225T131744Z
UID:10000904-1886934600-1886940000@bikeboxproject.org
SUMMARY:RSB Tyson Class
DESCRIPTION:Level 2 Rock Steady Boxing class; independent w/ moderate PD symptoms; some modifications possible
URL:https://bikeboxproject.org/calendar1/rsb-tyson-class/2029-10-17/
LOCATION:Rock Steady Boxing\, 1720 Trent Blvd\, New Bern\, NC\, 28560\, United States
CATEGORIES:RSB Tyson Class
END:VEVENT
BEGIN:VEVENT
DTSTART;TZID=America/New_York:20291022T123000
DTEND;TZID=America/New_York:20291022T140000
DTSTAMP:20260422T213904
CREATED:20260224T163206Z
LAST-MODIFIED:20260225T131744Z
UID:10000905-1887366600-1887372000@bikeboxproject.org
SUMMARY:RSB Tyson Class
DESCRIPTION:Level 2 Rock Steady Boxing class; independent w/ moderate PD symptoms; some modifications possible
URL:https://bikeboxproject.org/calendar1/rsb-tyson-class/2029-10-22/
LOCATION:Rock Steady Boxing\, 1720 Trent Blvd\, New Bern\, NC\, 28560\, United States
CATEGORIES:RSB Tyson Class
END:VEVENT
BEGIN:VEVENT
DTSTART;TZID=America/New_York:20291024T123000
DTEND;TZID=America/New_York:20291024T140000
DTSTAMP:20260422T213904
CREATED:20260224T163206Z
LAST-MODIFIED:20260225T131744Z
UID:10000906-1887539400-1887544800@bikeboxproject.org
SUMMARY:RSB Tyson Class
DESCRIPTION:Level 2 Rock Steady Boxing class; independent w/ moderate PD symptoms; some modifications possible
URL:https://bikeboxproject.org/calendar1/rsb-tyson-class/2029-10-24/
LOCATION:Rock Steady Boxing\, 1720 Trent Blvd\, New Bern\, NC\, 28560\, United States
CATEGORIES:RSB Tyson Class
END:VEVENT
BEGIN:VEVENT
DTSTART;TZID=America/New_York:20291029T123000
DTEND;TZID=America/New_York:20291029T140000
DTSTAMP:20260422T213904
CREATED:20260224T163206Z
LAST-MODIFIED:20260225T131744Z
UID:10000907-1887971400-1887976800@bikeboxproject.org
SUMMARY:RSB Tyson Class
DESCRIPTION:Level 2 Rock Steady Boxing class; independent w/ moderate PD symptoms; some modifications possible
URL:https://bikeboxproject.org/calendar1/rsb-tyson-class/2029-10-29/
LOCATION:Rock Steady Boxing\, 1720 Trent Blvd\, New Bern\, NC\, 28560\, United States
CATEGORIES:RSB Tyson Class
END:VEVENT
BEGIN:VEVENT
DTSTART;TZID=America/New_York:20291031T123000
DTEND;TZID=America/New_York:20291031T140000
DTSTAMP:20260422T213904
CREATED:20260224T163206Z
LAST-MODIFIED:20260225T131744Z
UID:10000908-1888144200-1888149600@bikeboxproject.org
SUMMARY:RSB Tyson Class
DESCRIPTION:Level 2 Rock Steady Boxing class; independent w/ moderate PD symptoms; some modifications possible
URL:https://bikeboxproject.org/calendar1/rsb-tyson-class/2029-10-31/
LOCATION:Rock Steady Boxing\, 1720 Trent Blvd\, New Bern\, NC\, 28560\, United States
CATEGORIES:RSB Tyson Class
END:VEVENT
BEGIN:VEVENT
DTSTART;TZID=America/New_York:20291105T123000
DTEND;TZID=America/New_York:20291105T140000
DTSTAMP:20260422T213904
CREATED:20260224T163206Z
LAST-MODIFIED:20260225T131744Z
UID:10000909-1888576200-1888581600@bikeboxproject.org
SUMMARY:RSB Tyson Class
DESCRIPTION:Level 2 Rock Steady Boxing class; independent w/ moderate PD symptoms; some modifications possible
URL:https://bikeboxproject.org/calendar1/rsb-tyson-class/2029-11-05/
LOCATION:Rock Steady Boxing\, 1720 Trent Blvd\, New Bern\, NC\, 28560\, United States
CATEGORIES:RSB Tyson Class
END:VEVENT
BEGIN:VEVENT
DTSTART;TZID=America/New_York:20291107T123000
DTEND;TZID=America/New_York:20291107T140000
DTSTAMP:20260422T213904
CREATED:20260224T163206Z
LAST-MODIFIED:20260225T131744Z
UID:10000910-1888749000-1888754400@bikeboxproject.org
SUMMARY:RSB Tyson Class
DESCRIPTION:Level 2 Rock Steady Boxing class; independent w/ moderate PD symptoms; some modifications possible
URL:https://bikeboxproject.org/calendar1/rsb-tyson-class/2029-11-07/
LOCATION:Rock Steady Boxing\, 1720 Trent Blvd\, New Bern\, NC\, 28560\, United States
CATEGORIES:RSB Tyson Class
END:VEVENT
BEGIN:VEVENT
DTSTART;TZID=America/New_York:20291112T123000
DTEND;TZID=America/New_York:20291112T140000
DTSTAMP:20260422T213904
CREATED:20260224T163206Z
LAST-MODIFIED:20260225T131744Z
UID:10000911-1889181000-1889186400@bikeboxproject.org
SUMMARY:RSB Tyson Class
DESCRIPTION:Level 2 Rock Steady Boxing class; independent w/ moderate PD symptoms; some modifications possible
URL:https://bikeboxproject.org/calendar1/rsb-tyson-class/2029-11-12/
LOCATION:Rock Steady Boxing\, 1720 Trent Blvd\, New Bern\, NC\, 28560\, United States
CATEGORIES:RSB Tyson Class
END:VEVENT
BEGIN:VEVENT
DTSTART;TZID=America/New_York:20291114T123000
DTEND;TZID=America/New_York:20291114T140000
DTSTAMP:20260422T213904
CREATED:20260224T163206Z
LAST-MODIFIED:20260225T131744Z
UID:10000912-1889353800-1889359200@bikeboxproject.org
SUMMARY:RSB Tyson Class
DESCRIPTION:Level 2 Rock Steady Boxing class; independent w/ moderate PD symptoms; some modifications possible
URL:https://bikeboxproject.org/calendar1/rsb-tyson-class/2029-11-14/
LOCATION:Rock Steady Boxing\, 1720 Trent Blvd\, New Bern\, NC\, 28560\, United States
CATEGORIES:RSB Tyson Class
END:VEVENT
BEGIN:VEVENT
DTSTART;TZID=America/New_York:20291119T123000
DTEND;TZID=America/New_York:20291119T140000
DTSTAMP:20260422T213904
CREATED:20260224T163206Z
LAST-MODIFIED:20260225T131744Z
UID:10000913-1889785800-1889791200@bikeboxproject.org
SUMMARY:RSB Tyson Class
DESCRIPTION:Level 2 Rock Steady Boxing class; independent w/ moderate PD symptoms; some modifications possible
URL:https://bikeboxproject.org/calendar1/rsb-tyson-class/2029-11-19/
LOCATION:Rock Steady Boxing\, 1720 Trent Blvd\, New Bern\, NC\, 28560\, United States
CATEGORIES:RSB Tyson Class
END:VEVENT
BEGIN:VEVENT
DTSTART;TZID=America/New_York:20291121T123000
DTEND;TZID=America/New_York:20291121T140000
DTSTAMP:20260422T213904
CREATED:20260224T163206Z
LAST-MODIFIED:20260225T131744Z
UID:10000914-1889958600-1889964000@bikeboxproject.org
SUMMARY:RSB Tyson Class
DESCRIPTION:Level 2 Rock Steady Boxing class; independent w/ moderate PD symptoms; some modifications possible
URL:https://bikeboxproject.org/calendar1/rsb-tyson-class/2029-11-21/
LOCATION:Rock Steady Boxing\, 1720 Trent Blvd\, New Bern\, NC\, 28560\, United States
CATEGORIES:RSB Tyson Class
END:VEVENT
BEGIN:VEVENT
DTSTART;TZID=America/New_York:20291126T123000
DTEND;TZID=America/New_York:20291126T140000
DTSTAMP:20260422T213904
CREATED:20260224T163206Z
LAST-MODIFIED:20260225T131744Z
UID:10000915-1890390600-1890396000@bikeboxproject.org
SUMMARY:RSB Tyson Class
DESCRIPTION:Level 2 Rock Steady Boxing class; independent w/ moderate PD symptoms; some modifications possible
URL:https://bikeboxproject.org/calendar1/rsb-tyson-class/2029-11-26/
LOCATION:Rock Steady Boxing\, 1720 Trent Blvd\, New Bern\, NC\, 28560\, United States
CATEGORIES:RSB Tyson Class
END:VEVENT
BEGIN:VEVENT
DTSTART;TZID=America/New_York:20291128T123000
DTEND;TZID=America/New_York:20291128T140000
DTSTAMP:20260422T213904
CREATED:20260224T163206Z
LAST-MODIFIED:20260225T131744Z
UID:10000916-1890563400-1890568800@bikeboxproject.org
SUMMARY:RSB Tyson Class
DESCRIPTION:Level 2 Rock Steady Boxing class; independent w/ moderate PD symptoms; some modifications possible
URL:https://bikeboxproject.org/calendar1/rsb-tyson-class/2029-11-28/
LOCATION:Rock Steady Boxing\, 1720 Trent Blvd\, New Bern\, NC\, 28560\, United States
CATEGORIES:RSB Tyson Class
END:VEVENT
BEGIN:VEVENT
DTSTART;TZID=America/New_York:20291203T123000
DTEND;TZID=America/New_York:20291203T140000
DTSTAMP:20260422T213904
CREATED:20260224T163206Z
LAST-MODIFIED:20260225T131744Z
UID:10000917-1890995400-1891000800@bikeboxproject.org
SUMMARY:RSB Tyson Class
DESCRIPTION:Level 2 Rock Steady Boxing class; independent w/ moderate PD symptoms; some modifications possible
URL:https://bikeboxproject.org/calendar1/rsb-tyson-class/2029-12-03/
LOCATION:Rock Steady Boxing\, 1720 Trent Blvd\, New Bern\, NC\, 28560\, United States
CATEGORIES:RSB Tyson Class
END:VEVENT
BEGIN:VEVENT
DTSTART;TZID=America/New_York:20291205T123000
DTEND;TZID=America/New_York:20291205T140000
DTSTAMP:20260422T213904
CREATED:20260224T163206Z
LAST-MODIFIED:20260225T131744Z
UID:10000918-1891168200-1891173600@bikeboxproject.org
SUMMARY:RSB Tyson Class
DESCRIPTION:Level 2 Rock Steady Boxing class; independent w/ moderate PD symptoms; some modifications possible
URL:https://bikeboxproject.org/calendar1/rsb-tyson-class/2029-12-05/
LOCATION:Rock Steady Boxing\, 1720 Trent Blvd\, New Bern\, NC\, 28560\, United States
CATEGORIES:RSB Tyson Class
END:VEVENT
BEGIN:VEVENT
DTSTART;TZID=America/New_York:20291210T123000
DTEND;TZID=America/New_York:20291210T140000
DTSTAMP:20260422T213904
CREATED:20260224T163206Z
LAST-MODIFIED:20260225T131744Z
UID:10000919-1891600200-1891605600@bikeboxproject.org
SUMMARY:RSB Tyson Class
DESCRIPTION:Level 2 Rock Steady Boxing class; independent w/ moderate PD symptoms; some modifications possible
URL:https://bikeboxproject.org/calendar1/rsb-tyson-class/2029-12-10/
LOCATION:Rock Steady Boxing\, 1720 Trent Blvd\, New Bern\, NC\, 28560\, United States
CATEGORIES:RSB Tyson Class
END:VEVENT
BEGIN:VEVENT
DTSTART;TZID=America/New_York:20291212T123000
DTEND;TZID=America/New_York:20291212T140000
DTSTAMP:20260422T213904
CREATED:20260224T163206Z
LAST-MODIFIED:20260225T131744Z
UID:10000920-1891773000-1891778400@bikeboxproject.org
SUMMARY:RSB Tyson Class
DESCRIPTION:Level 2 Rock Steady Boxing class; independent w/ moderate PD symptoms; some modifications possible
URL:https://bikeboxproject.org/calendar1/rsb-tyson-class/2029-12-12/
LOCATION:Rock Steady Boxing\, 1720 Trent Blvd\, New Bern\, NC\, 28560\, United States
CATEGORIES:RSB Tyson Class
END:VEVENT
BEGIN:VEVENT
DTSTART;TZID=America/New_York:20291217T123000
DTEND;TZID=America/New_York:20291217T140000
DTSTAMP:20260422T213904
CREATED:20260224T163206Z
LAST-MODIFIED:20260225T131744Z
UID:10000921-1892205000-1892210400@bikeboxproject.org
SUMMARY:RSB Tyson Class
DESCRIPTION:Level 2 Rock Steady Boxing class; independent w/ moderate PD symptoms; some modifications possible
URL:https://bikeboxproject.org/calendar1/rsb-tyson-class/2029-12-17/
LOCATION:Rock Steady Boxing\, 1720 Trent Blvd\, New Bern\, NC\, 28560\, United States
CATEGORIES:RSB Tyson Class
END:VEVENT
BEGIN:VEVENT
DTSTART;TZID=America/New_York:20291219T123000
DTEND;TZID=America/New_York:20291219T140000
DTSTAMP:20260422T213904
CREATED:20260224T163206Z
LAST-MODIFIED:20260225T131744Z
UID:10000922-1892377800-1892383200@bikeboxproject.org
SUMMARY:RSB Tyson Class
DESCRIPTION:Level 2 Rock Steady Boxing class; independent w/ moderate PD symptoms; some modifications possible
URL:https://bikeboxproject.org/calendar1/rsb-tyson-class/2029-12-19/
LOCATION:Rock Steady Boxing\, 1720 Trent Blvd\, New Bern\, NC\, 28560\, United States
CATEGORIES:RSB Tyson Class
END:VEVENT
END:VCALENDAR