BEGIN:VCALENDAR
VERSION:2.0
PRODID:-//Bike Box Org - ECPv6.15.20//NONSGML v1.0//EN
CALSCALE:GREGORIAN
METHOD:PUBLISH
X-ORIGINAL-URL:https://bikeboxproject.org
X-WR-CALDESC:Events for Bike Box Org
REFRESH-INTERVAL;VALUE=DURATION:PT1H
X-Robots-Tag:noindex
X-PUBLISHED-TTL:PT1H
BEGIN:VTIMEZONE
TZID:America/New_York
BEGIN:DAYLIGHT
TZOFFSETFROM:-0500
TZOFFSETTO:-0400
TZNAME:EDT
DTSTART:20280312T070000
END:DAYLIGHT
BEGIN:STANDARD
TZOFFSETFROM:-0400
TZOFFSETTO:-0500
TZNAME:EST
DTSTART:20281105T060000
END:STANDARD
BEGIN:DAYLIGHT
TZOFFSETFROM:-0500
TZOFFSETTO:-0400
TZNAME:EDT
DTSTART:20290311T070000
END:DAYLIGHT
BEGIN:STANDARD
TZOFFSETFROM:-0400
TZOFFSETTO:-0500
TZNAME:EST
DTSTART:20291104T060000
END:STANDARD
BEGIN:DAYLIGHT
TZOFFSETFROM:-0500
TZOFFSETTO:-0400
TZNAME:EDT
DTSTART:20300310T070000
END:DAYLIGHT
BEGIN:STANDARD
TZOFFSETFROM:-0400
TZOFFSETTO:-0500
TZNAME:EST
DTSTART:20301103T060000
END:STANDARD
BEGIN:DAYLIGHT
TZOFFSETFROM:-0500
TZOFFSETTO:-0400
TZNAME:EDT
DTSTART:20310309T070000
END:DAYLIGHT
BEGIN:STANDARD
TZOFFSETFROM:-0400
TZOFFSETTO:-0500
TZNAME:EST
DTSTART:20311102T060000
END:STANDARD
END:VTIMEZONE
BEGIN:VEVENT
DTSTART;TZID=America/New_York:20291203T123000
DTEND;TZID=America/New_York:20291203T140000
DTSTAMP:20260423T020710
CREATED:20260224T163206Z
LAST-MODIFIED:20260225T131744Z
UID:10000917-1890995400-1891000800@bikeboxproject.org
SUMMARY:RSB Tyson Class
DESCRIPTION:Level 2 Rock Steady Boxing class; independent w/ moderate PD symptoms; some modifications possible
URL:https://bikeboxproject.org/calendar1/rsb-tyson-class/2029-12-03/
LOCATION:Rock Steady Boxing\, 1720 Trent Blvd\, New Bern\, NC\, 28560\, United States
CATEGORIES:RSB Tyson Class
END:VEVENT
BEGIN:VEVENT
DTSTART;TZID=America/New_York:20291205T123000
DTEND;TZID=America/New_York:20291205T140000
DTSTAMP:20260423T020710
CREATED:20260224T163206Z
LAST-MODIFIED:20260225T131744Z
UID:10000918-1891168200-1891173600@bikeboxproject.org
SUMMARY:RSB Tyson Class
DESCRIPTION:Level 2 Rock Steady Boxing class; independent w/ moderate PD symptoms; some modifications possible
URL:https://bikeboxproject.org/calendar1/rsb-tyson-class/2029-12-05/
LOCATION:Rock Steady Boxing\, 1720 Trent Blvd\, New Bern\, NC\, 28560\, United States
CATEGORIES:RSB Tyson Class
END:VEVENT
BEGIN:VEVENT
DTSTART;TZID=America/New_York:20291210T123000
DTEND;TZID=America/New_York:20291210T140000
DTSTAMP:20260423T020710
CREATED:20260224T163206Z
LAST-MODIFIED:20260225T131744Z
UID:10000919-1891600200-1891605600@bikeboxproject.org
SUMMARY:RSB Tyson Class
DESCRIPTION:Level 2 Rock Steady Boxing class; independent w/ moderate PD symptoms; some modifications possible
URL:https://bikeboxproject.org/calendar1/rsb-tyson-class/2029-12-10/
LOCATION:Rock Steady Boxing\, 1720 Trent Blvd\, New Bern\, NC\, 28560\, United States
CATEGORIES:RSB Tyson Class
END:VEVENT
BEGIN:VEVENT
DTSTART;TZID=America/New_York:20291212T123000
DTEND;TZID=America/New_York:20291212T140000
DTSTAMP:20260423T020710
CREATED:20260224T163206Z
LAST-MODIFIED:20260225T131744Z
UID:10000920-1891773000-1891778400@bikeboxproject.org
SUMMARY:RSB Tyson Class
DESCRIPTION:Level 2 Rock Steady Boxing class; independent w/ moderate PD symptoms; some modifications possible
URL:https://bikeboxproject.org/calendar1/rsb-tyson-class/2029-12-12/
LOCATION:Rock Steady Boxing\, 1720 Trent Blvd\, New Bern\, NC\, 28560\, United States
CATEGORIES:RSB Tyson Class
END:VEVENT
BEGIN:VEVENT
DTSTART;TZID=America/New_York:20291217T123000
DTEND;TZID=America/New_York:20291217T140000
DTSTAMP:20260423T020710
CREATED:20260224T163206Z
LAST-MODIFIED:20260225T131744Z
UID:10000921-1892205000-1892210400@bikeboxproject.org
SUMMARY:RSB Tyson Class
DESCRIPTION:Level 2 Rock Steady Boxing class; independent w/ moderate PD symptoms; some modifications possible
URL:https://bikeboxproject.org/calendar1/rsb-tyson-class/2029-12-17/
LOCATION:Rock Steady Boxing\, 1720 Trent Blvd\, New Bern\, NC\, 28560\, United States
CATEGORIES:RSB Tyson Class
END:VEVENT
BEGIN:VEVENT
DTSTART;TZID=America/New_York:20291219T123000
DTEND;TZID=America/New_York:20291219T140000
DTSTAMP:20260423T020710
CREATED:20260224T163206Z
LAST-MODIFIED:20260225T131744Z
UID:10000922-1892377800-1892383200@bikeboxproject.org
SUMMARY:RSB Tyson Class
DESCRIPTION:Level 2 Rock Steady Boxing class; independent w/ moderate PD symptoms; some modifications possible
URL:https://bikeboxproject.org/calendar1/rsb-tyson-class/2029-12-19/
LOCATION:Rock Steady Boxing\, 1720 Trent Blvd\, New Bern\, NC\, 28560\, United States
CATEGORIES:RSB Tyson Class
END:VEVENT
BEGIN:VEVENT
DTSTART;TZID=America/New_York:20291224T123000
DTEND;TZID=America/New_York:20291224T140000
DTSTAMP:20260423T020710
CREATED:20260224T163206Z
LAST-MODIFIED:20260225T131744Z
UID:10000923-1892809800-1892815200@bikeboxproject.org
SUMMARY:RSB Tyson Class
DESCRIPTION:Level 2 Rock Steady Boxing class; independent w/ moderate PD symptoms; some modifications possible
URL:https://bikeboxproject.org/calendar1/rsb-tyson-class/2029-12-24/
LOCATION:Rock Steady Boxing\, 1720 Trent Blvd\, New Bern\, NC\, 28560\, United States
CATEGORIES:RSB Tyson Class
END:VEVENT
BEGIN:VEVENT
DTSTART;TZID=America/New_York:20291226T123000
DTEND;TZID=America/New_York:20291226T140000
DTSTAMP:20260423T020710
CREATED:20260224T163206Z
LAST-MODIFIED:20260225T131744Z
UID:10000924-1892982600-1892988000@bikeboxproject.org
SUMMARY:RSB Tyson Class
DESCRIPTION:Level 2 Rock Steady Boxing class; independent w/ moderate PD symptoms; some modifications possible
URL:https://bikeboxproject.org/calendar1/rsb-tyson-class/2029-12-26/
LOCATION:Rock Steady Boxing\, 1720 Trent Blvd\, New Bern\, NC\, 28560\, United States
CATEGORIES:RSB Tyson Class
END:VEVENT
BEGIN:VEVENT
DTSTART;TZID=America/New_York:20291231T123000
DTEND;TZID=America/New_York:20291231T140000
DTSTAMP:20260423T020710
CREATED:20260224T163206Z
LAST-MODIFIED:20260225T131744Z
UID:10000925-1893414600-1893420000@bikeboxproject.org
SUMMARY:RSB Tyson Class
DESCRIPTION:Level 2 Rock Steady Boxing class; independent w/ moderate PD symptoms; some modifications possible
URL:https://bikeboxproject.org/calendar1/rsb-tyson-class/2029-12-31/
LOCATION:Rock Steady Boxing\, 1720 Trent Blvd\, New Bern\, NC\, 28560\, United States
CATEGORIES:RSB Tyson Class
END:VEVENT
BEGIN:VEVENT
DTSTART;TZID=America/New_York:20300102T123000
DTEND;TZID=America/New_York:20300102T140000
DTSTAMP:20260423T020710
CREATED:20260224T163206Z
LAST-MODIFIED:20260225T131744Z
UID:10000926-1893587400-1893592800@bikeboxproject.org
SUMMARY:RSB Tyson Class
DESCRIPTION:Level 2 Rock Steady Boxing class; independent w/ moderate PD symptoms; some modifications possible
URL:https://bikeboxproject.org/calendar1/rsb-tyson-class/2030-01-02/
LOCATION:Rock Steady Boxing\, 1720 Trent Blvd\, New Bern\, NC\, 28560\, United States
CATEGORIES:RSB Tyson Class
END:VEVENT
BEGIN:VEVENT
DTSTART;TZID=America/New_York:20300107T123000
DTEND;TZID=America/New_York:20300107T140000
DTSTAMP:20260423T020710
CREATED:20260224T163206Z
LAST-MODIFIED:20260225T131744Z
UID:10000927-1894019400-1894024800@bikeboxproject.org
SUMMARY:RSB Tyson Class
DESCRIPTION:Level 2 Rock Steady Boxing class; independent w/ moderate PD symptoms; some modifications possible
URL:https://bikeboxproject.org/calendar1/rsb-tyson-class/2030-01-07/
LOCATION:Rock Steady Boxing\, 1720 Trent Blvd\, New Bern\, NC\, 28560\, United States
CATEGORIES:RSB Tyson Class
END:VEVENT
BEGIN:VEVENT
DTSTART;TZID=America/New_York:20300109T123000
DTEND;TZID=America/New_York:20300109T140000
DTSTAMP:20260423T020710
CREATED:20260224T163206Z
LAST-MODIFIED:20260225T131744Z
UID:10000928-1894192200-1894197600@bikeboxproject.org
SUMMARY:RSB Tyson Class
DESCRIPTION:Level 2 Rock Steady Boxing class; independent w/ moderate PD symptoms; some modifications possible
URL:https://bikeboxproject.org/calendar1/rsb-tyson-class/2030-01-09/
LOCATION:Rock Steady Boxing\, 1720 Trent Blvd\, New Bern\, NC\, 28560\, United States
CATEGORIES:RSB Tyson Class
END:VEVENT
BEGIN:VEVENT
DTSTART;TZID=America/New_York:20300114T123000
DTEND;TZID=America/New_York:20300114T140000
DTSTAMP:20260423T020710
CREATED:20260224T163206Z
LAST-MODIFIED:20260225T131744Z
UID:10000929-1894624200-1894629600@bikeboxproject.org
SUMMARY:RSB Tyson Class
DESCRIPTION:Level 2 Rock Steady Boxing class; independent w/ moderate PD symptoms; some modifications possible
URL:https://bikeboxproject.org/calendar1/rsb-tyson-class/2030-01-14/
LOCATION:Rock Steady Boxing\, 1720 Trent Blvd\, New Bern\, NC\, 28560\, United States
CATEGORIES:RSB Tyson Class
END:VEVENT
BEGIN:VEVENT
DTSTART;TZID=America/New_York:20300116T123000
DTEND;TZID=America/New_York:20300116T140000
DTSTAMP:20260423T020710
CREATED:20260224T163206Z
LAST-MODIFIED:20260225T131744Z
UID:10000930-1894797000-1894802400@bikeboxproject.org
SUMMARY:RSB Tyson Class
DESCRIPTION:Level 2 Rock Steady Boxing class; independent w/ moderate PD symptoms; some modifications possible
URL:https://bikeboxproject.org/calendar1/rsb-tyson-class/2030-01-16/
LOCATION:Rock Steady Boxing\, 1720 Trent Blvd\, New Bern\, NC\, 28560\, United States
CATEGORIES:RSB Tyson Class
END:VEVENT
BEGIN:VEVENT
DTSTART;TZID=America/New_York:20300121T123000
DTEND;TZID=America/New_York:20300121T140000
DTSTAMP:20260423T020710
CREATED:20260224T163206Z
LAST-MODIFIED:20260225T131744Z
UID:10000931-1895229000-1895234400@bikeboxproject.org
SUMMARY:RSB Tyson Class
DESCRIPTION:Level 2 Rock Steady Boxing class; independent w/ moderate PD symptoms; some modifications possible
URL:https://bikeboxproject.org/calendar1/rsb-tyson-class/2030-01-21/
LOCATION:Rock Steady Boxing\, 1720 Trent Blvd\, New Bern\, NC\, 28560\, United States
CATEGORIES:RSB Tyson Class
END:VEVENT
BEGIN:VEVENT
DTSTART;TZID=America/New_York:20300123T123000
DTEND;TZID=America/New_York:20300123T140000
DTSTAMP:20260423T020710
CREATED:20260224T163206Z
LAST-MODIFIED:20260225T131744Z
UID:10000932-1895401800-1895407200@bikeboxproject.org
SUMMARY:RSB Tyson Class
DESCRIPTION:Level 2 Rock Steady Boxing class; independent w/ moderate PD symptoms; some modifications possible
URL:https://bikeboxproject.org/calendar1/rsb-tyson-class/2030-01-23/
LOCATION:Rock Steady Boxing\, 1720 Trent Blvd\, New Bern\, NC\, 28560\, United States
CATEGORIES:RSB Tyson Class
END:VEVENT
BEGIN:VEVENT
DTSTART;TZID=America/New_York:20300128T123000
DTEND;TZID=America/New_York:20300128T140000
DTSTAMP:20260423T020710
CREATED:20260224T163206Z
LAST-MODIFIED:20260225T131744Z
UID:10000933-1895833800-1895839200@bikeboxproject.org
SUMMARY:RSB Tyson Class
DESCRIPTION:Level 2 Rock Steady Boxing class; independent w/ moderate PD symptoms; some modifications possible
URL:https://bikeboxproject.org/calendar1/rsb-tyson-class/2030-01-28/
LOCATION:Rock Steady Boxing\, 1720 Trent Blvd\, New Bern\, NC\, 28560\, United States
CATEGORIES:RSB Tyson Class
END:VEVENT
BEGIN:VEVENT
DTSTART;TZID=America/New_York:20300130T123000
DTEND;TZID=America/New_York:20300130T140000
DTSTAMP:20260423T020710
CREATED:20260224T163206Z
LAST-MODIFIED:20260225T131744Z
UID:10000934-1896006600-1896012000@bikeboxproject.org
SUMMARY:RSB Tyson Class
DESCRIPTION:Level 2 Rock Steady Boxing class; independent w/ moderate PD symptoms; some modifications possible
URL:https://bikeboxproject.org/calendar1/rsb-tyson-class/2030-01-30/
LOCATION:Rock Steady Boxing\, 1720 Trent Blvd\, New Bern\, NC\, 28560\, United States
CATEGORIES:RSB Tyson Class
END:VEVENT
BEGIN:VEVENT
DTSTART;TZID=America/New_York:20300204T123000
DTEND;TZID=America/New_York:20300204T140000
DTSTAMP:20260423T020710
CREATED:20260224T163206Z
LAST-MODIFIED:20260225T131744Z
UID:10000935-1896438600-1896444000@bikeboxproject.org
SUMMARY:RSB Tyson Class
DESCRIPTION:Level 2 Rock Steady Boxing class; independent w/ moderate PD symptoms; some modifications possible
URL:https://bikeboxproject.org/calendar1/rsb-tyson-class/2030-02-04/
LOCATION:Rock Steady Boxing\, 1720 Trent Blvd\, New Bern\, NC\, 28560\, United States
CATEGORIES:RSB Tyson Class
END:VEVENT
BEGIN:VEVENT
DTSTART;TZID=America/New_York:20300206T123000
DTEND;TZID=America/New_York:20300206T140000
DTSTAMP:20260423T020710
CREATED:20260224T163206Z
LAST-MODIFIED:20260225T131744Z
UID:10000936-1896611400-1896616800@bikeboxproject.org
SUMMARY:RSB Tyson Class
DESCRIPTION:Level 2 Rock Steady Boxing class; independent w/ moderate PD symptoms; some modifications possible
URL:https://bikeboxproject.org/calendar1/rsb-tyson-class/2030-02-06/
LOCATION:Rock Steady Boxing\, 1720 Trent Blvd\, New Bern\, NC\, 28560\, United States
CATEGORIES:RSB Tyson Class
END:VEVENT
BEGIN:VEVENT
DTSTART;TZID=America/New_York:20300211T123000
DTEND;TZID=America/New_York:20300211T140000
DTSTAMP:20260423T020710
CREATED:20260224T163206Z
LAST-MODIFIED:20260225T131744Z
UID:10000937-1897043400-1897048800@bikeboxproject.org
SUMMARY:RSB Tyson Class
DESCRIPTION:Level 2 Rock Steady Boxing class; independent w/ moderate PD symptoms; some modifications possible
URL:https://bikeboxproject.org/calendar1/rsb-tyson-class/2030-02-11/
LOCATION:Rock Steady Boxing\, 1720 Trent Blvd\, New Bern\, NC\, 28560\, United States
CATEGORIES:RSB Tyson Class
END:VEVENT
BEGIN:VEVENT
DTSTART;TZID=America/New_York:20300213T123000
DTEND;TZID=America/New_York:20300213T140000
DTSTAMP:20260423T020710
CREATED:20260224T163206Z
LAST-MODIFIED:20260225T131744Z
UID:10000938-1897216200-1897221600@bikeboxproject.org
SUMMARY:RSB Tyson Class
DESCRIPTION:Level 2 Rock Steady Boxing class; independent w/ moderate PD symptoms; some modifications possible
URL:https://bikeboxproject.org/calendar1/rsb-tyson-class/2030-02-13/
LOCATION:Rock Steady Boxing\, 1720 Trent Blvd\, New Bern\, NC\, 28560\, United States
CATEGORIES:RSB Tyson Class
END:VEVENT
BEGIN:VEVENT
DTSTART;TZID=America/New_York:20300218T123000
DTEND;TZID=America/New_York:20300218T140000
DTSTAMP:20260423T020710
CREATED:20260224T163206Z
LAST-MODIFIED:20260225T131744Z
UID:10000939-1897648200-1897653600@bikeboxproject.org
SUMMARY:RSB Tyson Class
DESCRIPTION:Level 2 Rock Steady Boxing class; independent w/ moderate PD symptoms; some modifications possible
URL:https://bikeboxproject.org/calendar1/rsb-tyson-class/2030-02-18/
LOCATION:Rock Steady Boxing\, 1720 Trent Blvd\, New Bern\, NC\, 28560\, United States
CATEGORIES:RSB Tyson Class
END:VEVENT
BEGIN:VEVENT
DTSTART;TZID=America/New_York:20300220T123000
DTEND;TZID=America/New_York:20300220T140000
DTSTAMP:20260423T020710
CREATED:20260224T163206Z
LAST-MODIFIED:20260225T131744Z
UID:10000940-1897821000-1897826400@bikeboxproject.org
SUMMARY:RSB Tyson Class
DESCRIPTION:Level 2 Rock Steady Boxing class; independent w/ moderate PD symptoms; some modifications possible
URL:https://bikeboxproject.org/calendar1/rsb-tyson-class/2030-02-20/
LOCATION:Rock Steady Boxing\, 1720 Trent Blvd\, New Bern\, NC\, 28560\, United States
CATEGORIES:RSB Tyson Class
END:VEVENT
BEGIN:VEVENT
DTSTART;TZID=America/New_York:20300225T123000
DTEND;TZID=America/New_York:20300225T140000
DTSTAMP:20260423T020710
CREATED:20260224T163206Z
LAST-MODIFIED:20260225T131744Z
UID:10000941-1898253000-1898258400@bikeboxproject.org
SUMMARY:RSB Tyson Class
DESCRIPTION:Level 2 Rock Steady Boxing class; independent w/ moderate PD symptoms; some modifications possible
URL:https://bikeboxproject.org/calendar1/rsb-tyson-class/2030-02-25/
LOCATION:Rock Steady Boxing\, 1720 Trent Blvd\, New Bern\, NC\, 28560\, United States
CATEGORIES:RSB Tyson Class
END:VEVENT
BEGIN:VEVENT
DTSTART;TZID=America/New_York:20300227T123000
DTEND;TZID=America/New_York:20300227T140000
DTSTAMP:20260423T020710
CREATED:20260224T163206Z
LAST-MODIFIED:20260225T131744Z
UID:10000942-1898425800-1898431200@bikeboxproject.org
SUMMARY:RSB Tyson Class
DESCRIPTION:Level 2 Rock Steady Boxing class; independent w/ moderate PD symptoms; some modifications possible
URL:https://bikeboxproject.org/calendar1/rsb-tyson-class/2030-02-27/
LOCATION:Rock Steady Boxing\, 1720 Trent Blvd\, New Bern\, NC\, 28560\, United States
CATEGORIES:RSB Tyson Class
END:VEVENT
BEGIN:VEVENT
DTSTART;TZID=America/New_York:20300304T123000
DTEND;TZID=America/New_York:20300304T140000
DTSTAMP:20260423T020710
CREATED:20260224T163206Z
LAST-MODIFIED:20260225T131744Z
UID:10000943-1898857800-1898863200@bikeboxproject.org
SUMMARY:RSB Tyson Class
DESCRIPTION:Level 2 Rock Steady Boxing class; independent w/ moderate PD symptoms; some modifications possible
URL:https://bikeboxproject.org/calendar1/rsb-tyson-class/2030-03-04/
LOCATION:Rock Steady Boxing\, 1720 Trent Blvd\, New Bern\, NC\, 28560\, United States
CATEGORIES:RSB Tyson Class
END:VEVENT
BEGIN:VEVENT
DTSTART;TZID=America/New_York:20300306T123000
DTEND;TZID=America/New_York:20300306T140000
DTSTAMP:20260423T020710
CREATED:20260224T163206Z
LAST-MODIFIED:20260225T131744Z
UID:10000944-1899030600-1899036000@bikeboxproject.org
SUMMARY:RSB Tyson Class
DESCRIPTION:Level 2 Rock Steady Boxing class; independent w/ moderate PD symptoms; some modifications possible
URL:https://bikeboxproject.org/calendar1/rsb-tyson-class/2030-03-06/
LOCATION:Rock Steady Boxing\, 1720 Trent Blvd\, New Bern\, NC\, 28560\, United States
CATEGORIES:RSB Tyson Class
END:VEVENT
BEGIN:VEVENT
DTSTART;TZID=America/New_York:20300311T123000
DTEND;TZID=America/New_York:20300311T140000
DTSTAMP:20260423T020710
CREATED:20260224T163206Z
LAST-MODIFIED:20260225T131744Z
UID:10000945-1899462600-1899468000@bikeboxproject.org
SUMMARY:RSB Tyson Class
DESCRIPTION:Level 2 Rock Steady Boxing class; independent w/ moderate PD symptoms; some modifications possible
URL:https://bikeboxproject.org/calendar1/rsb-tyson-class/2030-03-11/
LOCATION:Rock Steady Boxing\, 1720 Trent Blvd\, New Bern\, NC\, 28560\, United States
CATEGORIES:RSB Tyson Class
END:VEVENT
BEGIN:VEVENT
DTSTART;TZID=America/New_York:20300313T123000
DTEND;TZID=America/New_York:20300313T140000
DTSTAMP:20260423T020710
CREATED:20260224T163206Z
LAST-MODIFIED:20260225T131744Z
UID:10000946-1899635400-1899640800@bikeboxproject.org
SUMMARY:RSB Tyson Class
DESCRIPTION:Level 2 Rock Steady Boxing class; independent w/ moderate PD symptoms; some modifications possible
URL:https://bikeboxproject.org/calendar1/rsb-tyson-class/2030-03-13/
LOCATION:Rock Steady Boxing\, 1720 Trent Blvd\, New Bern\, NC\, 28560\, United States
CATEGORIES:RSB Tyson Class
END:VEVENT
END:VCALENDAR