BEGIN:VCALENDAR
VERSION:2.0
PRODID:-//Bike Box Org - ECPv6.15.20//NONSGML v1.0//EN
CALSCALE:GREGORIAN
METHOD:PUBLISH
X-WR-CALNAME:Bike Box Org
X-ORIGINAL-URL:https://bikeboxproject.org
X-WR-CALDESC:Events for Bike Box Org
REFRESH-INTERVAL;VALUE=DURATION:PT1H
X-Robots-Tag:noindex
X-PUBLISHED-TTL:PT1H
BEGIN:VTIMEZONE
TZID:America/New_York
BEGIN:DAYLIGHT
TZOFFSETFROM:-0500
TZOFFSETTO:-0400
TZNAME:EDT
DTSTART:20250309T070000
END:DAYLIGHT
BEGIN:STANDARD
TZOFFSETFROM:-0400
TZOFFSETTO:-0500
TZNAME:EST
DTSTART:20251102T060000
END:STANDARD
BEGIN:DAYLIGHT
TZOFFSETFROM:-0500
TZOFFSETTO:-0400
TZNAME:EDT
DTSTART:20260308T070000
END:DAYLIGHT
BEGIN:STANDARD
TZOFFSETFROM:-0400
TZOFFSETTO:-0500
TZNAME:EST
DTSTART:20261101T060000
END:STANDARD
BEGIN:DAYLIGHT
TZOFFSETFROM:-0500
TZOFFSETTO:-0400
TZNAME:EDT
DTSTART:20270314T070000
END:DAYLIGHT
BEGIN:STANDARD
TZOFFSETFROM:-0400
TZOFFSETTO:-0500
TZNAME:EST
DTSTART:20271107T060000
END:STANDARD
END:VTIMEZONE
BEGIN:VEVENT
DTSTART;TZID=America/New_York:20260312T090000
DTEND;TZID=America/New_York:20260312T100000
DTSTAMP:20260423T050214
CREATED:20260224T171150Z
LAST-MODIFIED:20260225T132352Z
UID:10001050-1773306000-1773309600@bikeboxproject.org
SUMMARY:RSB Sugar Ray Class
DESCRIPTION:Level 2/3 Rock Steady Boxing class; more progressed PD symptoms; balance and PD related issues requiring some volunteer assistance
URL:https://bikeboxproject.org/calendar1/rsb-sugar-ray-class/2026-03-12/
CATEGORIES:RSB Sugar Ray Class
END:VEVENT
BEGIN:VEVENT
DTSTART;TZID=America/New_York:20260311T123000
DTEND;TZID=America/New_York:20260311T140000
DTSTAMP:20260423T050214
CREATED:20260224T163206Z
LAST-MODIFIED:20260225T131744Z
UID:10000528-1773232200-1773237600@bikeboxproject.org
SUMMARY:RSB Tyson Class
DESCRIPTION:Level 2 Rock Steady Boxing class; independent w/ moderate PD symptoms; some modifications possible
URL:https://bikeboxproject.org/calendar1/rsb-tyson-class/2026-03-11/
LOCATION:Rock Steady Boxing\, 1720 Trent Blvd\, New Bern\, NC\, 28560\, United States
CATEGORIES:RSB Tyson Class
END:VEVENT
BEGIN:VEVENT
DTSTART;TZID=America/New_York:20260311T100000
DTEND;TZID=America/New_York:20260311T113000
DTSTAMP:20260423T050214
CREATED:20260224T162536Z
LAST-MODIFIED:20260225T131618Z
UID:10000006-1773223200-1773228600@bikeboxproject.org
SUMMARY:RSB Ali Class
DESCRIPTION:Level 1 Rock Steady Boxing class; independent w/ minor PD symptoms
URL:https://bikeboxproject.org/calendar1/ali-rsb-class/2026-03-11/
LOCATION:Rock Steady Boxing\, 1720 Trent Blvd\, New Bern\, NC\, 28560\, United States
CATEGORIES:RSB Ali Class
END:VEVENT
BEGIN:VEVENT
DTSTART;TZID=America/New_York:20260310T130000
DTEND;TZID=America/New_York:20260310T140000
DTSTAMP:20260423T050214
CREATED:20260224T171937Z
LAST-MODIFIED:20260225T132558Z
UID:10002091-1773147600-1773151200@bikeboxproject.org
SUMMARY:RSB Frazier Class
DESCRIPTION:Level 4 Rock Steady Boxing class; severe symptoms of PD using an assistive device; requires volunteer for assistance
URL:https://bikeboxproject.org/calendar1/rsb-frazier-class/2026-03-10/
CATEGORIES:RSB Frazier Class
END:VEVENT
BEGIN:VEVENT
DTSTART;TZID=America/New_York:20260310T110000
DTEND;TZID=America/New_York:20260310T120000
DTSTAMP:20260423T050214
CREATED:20260224T171516Z
LAST-MODIFIED:20260225T132448Z
UID:10001570-1773140400-1773144000@bikeboxproject.org
SUMMARY:RSB Foreman Class
DESCRIPTION:Level 3/4 Rock Steady Boxing class; progressed PD with more serious symptoms; requires volunteer assistance due to balance\, cognition\, and modifications
URL:https://bikeboxproject.org/calendar1/foreman-rsb-class/2026-03-10/
CATEGORIES:Foreman RSB Class
END:VEVENT
BEGIN:VEVENT
DTSTART;TZID=America/New_York:20260310T090000
DTEND;TZID=America/New_York:20260310T100000
DTSTAMP:20260423T050214
CREATED:20260224T171150Z
LAST-MODIFIED:20260225T132352Z
UID:10001049-1773133200-1773136800@bikeboxproject.org
SUMMARY:RSB Sugar Ray Class
DESCRIPTION:Level 2/3 Rock Steady Boxing class; more progressed PD symptoms; balance and PD related issues requiring some volunteer assistance
URL:https://bikeboxproject.org/calendar1/rsb-sugar-ray-class/2026-03-10/
CATEGORIES:RSB Sugar Ray Class
END:VEVENT
BEGIN:VEVENT
DTSTART;TZID=America/New_York:20260309T123000
DTEND;TZID=America/New_York:20260309T140000
DTSTAMP:20260423T050214
CREATED:20260224T163206Z
LAST-MODIFIED:20260225T131744Z
UID:10000527-1773059400-1773064800@bikeboxproject.org
SUMMARY:RSB Tyson Class
DESCRIPTION:Level 2 Rock Steady Boxing class; independent w/ moderate PD symptoms; some modifications possible
URL:https://bikeboxproject.org/calendar1/rsb-tyson-class/2026-03-09/
LOCATION:Rock Steady Boxing\, 1720 Trent Blvd\, New Bern\, NC\, 28560\, United States
CATEGORIES:RSB Tyson Class
END:VEVENT
BEGIN:VEVENT
DTSTART;TZID=America/New_York:20260309T100000
DTEND;TZID=America/New_York:20260309T113000
DTSTAMP:20260423T050214
CREATED:20260224T162536Z
LAST-MODIFIED:20260225T131618Z
UID:10000005-1773050400-1773055800@bikeboxproject.org
SUMMARY:RSB Ali Class
DESCRIPTION:Level 1 Rock Steady Boxing class; independent w/ minor PD symptoms
URL:https://bikeboxproject.org/calendar1/ali-rsb-class/2026-03-09/
LOCATION:Rock Steady Boxing\, 1720 Trent Blvd\, New Bern\, NC\, 28560\, United States
CATEGORIES:RSB Ali Class
END:VEVENT
BEGIN:VEVENT
DTSTART;TZID=America/New_York:20260306T100000
DTEND;TZID=America/New_York:20260306T110000
DTSTAMP:20260423T050214
CREATED:20260224T173748Z
LAST-MODIFIED:20260225T132850Z
UID:10002609-1772791200-1772794800@bikeboxproject.org
SUMMARY:Variety Class
DESCRIPTION:An extra workout of the week offered to RSB participants; class offered is either Strength and Stamina\, Chair/Restorative Yoga\, or Pound (music\, rhythm\, and drumsticks)
URL:https://bikeboxproject.org/calendar1/variety-class/2026-03-06/
CATEGORIES:Variety Class
END:VEVENT
BEGIN:VEVENT
DTSTART;TZID=America/New_York:20260305T130000
DTEND;TZID=America/New_York:20260305T140000
DTSTAMP:20260423T050214
CREATED:20260224T171937Z
LAST-MODIFIED:20260225T132558Z
UID:10002090-1772715600-1772719200@bikeboxproject.org
SUMMARY:RSB Frazier Class
DESCRIPTION:Level 4 Rock Steady Boxing class; severe symptoms of PD using an assistive device; requires volunteer for assistance
URL:https://bikeboxproject.org/calendar1/rsb-frazier-class/2026-03-05/
CATEGORIES:RSB Frazier Class
END:VEVENT
BEGIN:VEVENT
DTSTART;TZID=America/New_York:20260305T110000
DTEND;TZID=America/New_York:20260305T120000
DTSTAMP:20260423T050214
CREATED:20260224T171516Z
LAST-MODIFIED:20260225T132448Z
UID:10001569-1772708400-1772712000@bikeboxproject.org
SUMMARY:RSB Foreman Class
DESCRIPTION:Level 3/4 Rock Steady Boxing class; progressed PD with more serious symptoms; requires volunteer assistance due to balance\, cognition\, and modifications
URL:https://bikeboxproject.org/calendar1/foreman-rsb-class/2026-03-05/
CATEGORIES:Foreman RSB Class
END:VEVENT
BEGIN:VEVENT
DTSTART;TZID=America/New_York:20260305T090000
DTEND;TZID=America/New_York:20260305T100000
DTSTAMP:20260423T050214
CREATED:20260224T171150Z
LAST-MODIFIED:20260225T132352Z
UID:10001048-1772701200-1772704800@bikeboxproject.org
SUMMARY:RSB Sugar Ray Class
DESCRIPTION:Level 2/3 Rock Steady Boxing class; more progressed PD symptoms; balance and PD related issues requiring some volunteer assistance
URL:https://bikeboxproject.org/calendar1/rsb-sugar-ray-class/2026-03-05/
CATEGORIES:RSB Sugar Ray Class
END:VEVENT
BEGIN:VEVENT
DTSTART;TZID=America/New_York:20260304T123000
DTEND;TZID=America/New_York:20260304T140000
DTSTAMP:20260423T050214
CREATED:20260224T163206Z
LAST-MODIFIED:20260225T131744Z
UID:10000526-1772627400-1772632800@bikeboxproject.org
SUMMARY:RSB Tyson Class
DESCRIPTION:Level 2 Rock Steady Boxing class; independent w/ moderate PD symptoms; some modifications possible
URL:https://bikeboxproject.org/calendar1/rsb-tyson-class/2026-03-04/
LOCATION:Rock Steady Boxing\, 1720 Trent Blvd\, New Bern\, NC\, 28560\, United States
CATEGORIES:RSB Tyson Class
END:VEVENT
BEGIN:VEVENT
DTSTART;TZID=America/New_York:20260304T100000
DTEND;TZID=America/New_York:20260304T113000
DTSTAMP:20260423T050214
CREATED:20260224T162536Z
LAST-MODIFIED:20260225T131618Z
UID:10000004-1772618400-1772623800@bikeboxproject.org
SUMMARY:RSB Ali Class
DESCRIPTION:Level 1 Rock Steady Boxing class; independent w/ minor PD symptoms
URL:https://bikeboxproject.org/calendar1/ali-rsb-class/2026-03-04/
LOCATION:Rock Steady Boxing\, 1720 Trent Blvd\, New Bern\, NC\, 28560\, United States
CATEGORIES:RSB Ali Class
END:VEVENT
BEGIN:VEVENT
DTSTART;TZID=America/New_York:20260303T130000
DTEND;TZID=America/New_York:20260303T140000
DTSTAMP:20260423T050214
CREATED:20260224T171937Z
LAST-MODIFIED:20260225T132558Z
UID:10002089-1772542800-1772546400@bikeboxproject.org
SUMMARY:RSB Frazier Class
DESCRIPTION:Level 4 Rock Steady Boxing class; severe symptoms of PD using an assistive device; requires volunteer for assistance
URL:https://bikeboxproject.org/calendar1/rsb-frazier-class/2026-03-03/
CATEGORIES:RSB Frazier Class
END:VEVENT
BEGIN:VEVENT
DTSTART;TZID=America/New_York:20260303T110000
DTEND;TZID=America/New_York:20260303T120000
DTSTAMP:20260423T050214
CREATED:20260224T171516Z
LAST-MODIFIED:20260225T132448Z
UID:10001568-1772535600-1772539200@bikeboxproject.org
SUMMARY:RSB Foreman Class
DESCRIPTION:Level 3/4 Rock Steady Boxing class; progressed PD with more serious symptoms; requires volunteer assistance due to balance\, cognition\, and modifications
URL:https://bikeboxproject.org/calendar1/foreman-rsb-class/2026-03-03/
CATEGORIES:Foreman RSB Class
END:VEVENT
BEGIN:VEVENT
DTSTART;TZID=America/New_York:20260303T090000
DTEND;TZID=America/New_York:20260303T100000
DTSTAMP:20260423T050214
CREATED:20260224T171150Z
LAST-MODIFIED:20260225T132352Z
UID:10001047-1772528400-1772532000@bikeboxproject.org
SUMMARY:RSB Sugar Ray Class
DESCRIPTION:Level 2/3 Rock Steady Boxing class; more progressed PD symptoms; balance and PD related issues requiring some volunteer assistance
URL:https://bikeboxproject.org/calendar1/rsb-sugar-ray-class/2026-03-03/
CATEGORIES:RSB Sugar Ray Class
END:VEVENT
BEGIN:VEVENT
DTSTART;TZID=America/New_York:20260302T123000
DTEND;TZID=America/New_York:20260302T140000
DTSTAMP:20260423T050214
CREATED:20260224T163206Z
LAST-MODIFIED:20260225T131744Z
UID:10000525-1772454600-1772460000@bikeboxproject.org
SUMMARY:RSB Tyson Class
DESCRIPTION:Level 2 Rock Steady Boxing class; independent w/ moderate PD symptoms; some modifications possible
URL:https://bikeboxproject.org/calendar1/rsb-tyson-class/2026-03-02/
LOCATION:Rock Steady Boxing\, 1720 Trent Blvd\, New Bern\, NC\, 28560\, United States
CATEGORIES:RSB Tyson Class
END:VEVENT
BEGIN:VEVENT
DTSTART;TZID=America/New_York:20260302T100000
DTEND;TZID=America/New_York:20260302T113000
DTSTAMP:20260423T050214
CREATED:20260224T162536Z
LAST-MODIFIED:20260225T131618Z
UID:10000003-1772445600-1772451000@bikeboxproject.org
SUMMARY:RSB Ali Class
DESCRIPTION:Level 1 Rock Steady Boxing class; independent w/ minor PD symptoms
URL:https://bikeboxproject.org/calendar1/ali-rsb-class/2026-03-02/
LOCATION:Rock Steady Boxing\, 1720 Trent Blvd\, New Bern\, NC\, 28560\, United States
CATEGORIES:RSB Ali Class
END:VEVENT
BEGIN:VEVENT
DTSTART;TZID=America/New_York:20260227T100000
DTEND;TZID=America/New_York:20260227T110000
DTSTAMP:20260423T050214
CREATED:20260224T174028Z
LAST-MODIFIED:20260225T133052Z
UID:10002810-1772186400-1772190000@bikeboxproject.org
SUMMARY:Support Group
DESCRIPTION:General meeting for people with Parkinson’s\, their care partner/care family\, and anyone interested in the Parkinson’s community. Meeting location is 2311 Elizabeth Ave\, New Bern\, 28562
URL:https://bikeboxproject.org/calendar1/support-group/2026-02-27/
CATEGORIES:Support Group
END:VEVENT
BEGIN:VEVENT
DTSTART;TZID=America/New_York:20260226T130000
DTEND;TZID=America/New_York:20260226T140000
DTSTAMP:20260423T050214
CREATED:20260224T171937Z
LAST-MODIFIED:20260225T132558Z
UID:10002088-1772110800-1772114400@bikeboxproject.org
SUMMARY:RSB Frazier Class
DESCRIPTION:Level 4 Rock Steady Boxing class; severe symptoms of PD using an assistive device; requires volunteer for assistance
URL:https://bikeboxproject.org/calendar1/rsb-frazier-class/2026-02-26/
CATEGORIES:RSB Frazier Class
END:VEVENT
BEGIN:VEVENT
DTSTART;TZID=America/New_York:20260226T110000
DTEND;TZID=America/New_York:20260226T120000
DTSTAMP:20260423T050214
CREATED:20260224T171516Z
LAST-MODIFIED:20260225T132448Z
UID:10001567-1772103600-1772107200@bikeboxproject.org
SUMMARY:RSB Foreman Class
DESCRIPTION:Level 3/4 Rock Steady Boxing class; progressed PD with more serious symptoms; requires volunteer assistance due to balance\, cognition\, and modifications
URL:https://bikeboxproject.org/calendar1/foreman-rsb-class/2026-02-26/
CATEGORIES:Foreman RSB Class
END:VEVENT
BEGIN:VEVENT
DTSTART;TZID=America/New_York:20260226T090000
DTEND;TZID=America/New_York:20260226T100000
DTSTAMP:20260423T050214
CREATED:20260224T171150Z
LAST-MODIFIED:20260225T132352Z
UID:10001046-1772096400-1772100000@bikeboxproject.org
SUMMARY:RSB Sugar Ray Class
DESCRIPTION:Level 2/3 Rock Steady Boxing class; more progressed PD symptoms; balance and PD related issues requiring some volunteer assistance
URL:https://bikeboxproject.org/calendar1/rsb-sugar-ray-class/2026-02-26/
CATEGORIES:RSB Sugar Ray Class
END:VEVENT
BEGIN:VEVENT
DTSTART;TZID=America/New_York:20260225T123000
DTEND;TZID=America/New_York:20260225T140000
DTSTAMP:20260423T050214
CREATED:20260224T163206Z
LAST-MODIFIED:20260225T131744Z
UID:10000524-1772022600-1772028000@bikeboxproject.org
SUMMARY:RSB Tyson Class
DESCRIPTION:Level 2 Rock Steady Boxing class; independent w/ moderate PD symptoms; some modifications possible
URL:https://bikeboxproject.org/calendar1/rsb-tyson-class/2026-02-25/
LOCATION:Rock Steady Boxing\, 1720 Trent Blvd\, New Bern\, NC\, 28560\, United States
CATEGORIES:RSB Tyson Class
END:VEVENT
BEGIN:VEVENT
DTSTART;TZID=America/New_York:20260225T100000
DTEND;TZID=America/New_York:20260225T113000
DTSTAMP:20260423T050214
CREATED:20260224T162536Z
LAST-MODIFIED:20260225T131618Z
UID:10000002-1772013600-1772019000@bikeboxproject.org
SUMMARY:RSB Ali Class
DESCRIPTION:Level 1 Rock Steady Boxing class; independent w/ minor PD symptoms
URL:https://bikeboxproject.org/calendar1/ali-rsb-class/2026-02-25/
LOCATION:Rock Steady Boxing\, 1720 Trent Blvd\, New Bern\, NC\, 28560\, United States
CATEGORIES:RSB Ali Class
END:VEVENT
END:VCALENDAR