BEGIN:VCALENDAR
VERSION:2.0
PRODID:-//Bike Box Org - ECPv6.15.20//NONSGML v1.0//EN
CALSCALE:GREGORIAN
METHOD:PUBLISH
X-ORIGINAL-URL:https://bikeboxproject.org
X-WR-CALDESC:Events for Bike Box Org
REFRESH-INTERVAL;VALUE=DURATION:PT1H
X-Robots-Tag:noindex
X-PUBLISHED-TTL:PT1H
BEGIN:VTIMEZONE
TZID:America/New_York
BEGIN:DAYLIGHT
TZOFFSETFROM:-0500
TZOFFSETTO:-0400
TZNAME:EDT
DTSTART:20250309T070000
END:DAYLIGHT
BEGIN:STANDARD
TZOFFSETFROM:-0400
TZOFFSETTO:-0500
TZNAME:EST
DTSTART:20251102T060000
END:STANDARD
BEGIN:DAYLIGHT
TZOFFSETFROM:-0500
TZOFFSETTO:-0400
TZNAME:EDT
DTSTART:20260308T070000
END:DAYLIGHT
BEGIN:STANDARD
TZOFFSETFROM:-0400
TZOFFSETTO:-0500
TZNAME:EST
DTSTART:20261101T060000
END:STANDARD
BEGIN:DAYLIGHT
TZOFFSETFROM:-0500
TZOFFSETTO:-0400
TZNAME:EDT
DTSTART:20270314T070000
END:DAYLIGHT
BEGIN:STANDARD
TZOFFSETFROM:-0400
TZOFFSETTO:-0500
TZNAME:EST
DTSTART:20271107T060000
END:STANDARD
END:VTIMEZONE
BEGIN:VEVENT
DTSTART;TZID=America/New_York:20260827T110000
DTEND;TZID=America/New_York:20260827T120000
DTSTAMP:20260421T133413
CREATED:20260224T171516Z
LAST-MODIFIED:20260225T132448Z
UID:10001619-1787828400-1787832000@bikeboxproject.org
SUMMARY:RSB Foreman Class
DESCRIPTION:Level 3/4 Rock Steady Boxing class; progressed PD with more serious symptoms; requires volunteer assistance due to balance\, cognition\, and modifications
URL:https://bikeboxproject.org/calendar1/foreman-rsb-class/2026-08-27/
CATEGORIES:Foreman RSB Class
END:VEVENT
BEGIN:VEVENT
DTSTART;TZID=America/New_York:20260827T130000
DTEND;TZID=America/New_York:20260827T140000
DTSTAMP:20260421T133413
CREATED:20260224T171937Z
LAST-MODIFIED:20260225T132558Z
UID:10002140-1787835600-1787839200@bikeboxproject.org
SUMMARY:RSB Frazier Class
DESCRIPTION:Level 4 Rock Steady Boxing class; severe symptoms of PD using an assistive device; requires volunteer for assistance
URL:https://bikeboxproject.org/calendar1/rsb-frazier-class/2026-08-27/
CATEGORIES:RSB Frazier Class
END:VEVENT
BEGIN:VEVENT
DTSTART;TZID=America/New_York:20260828T100000
DTEND;TZID=America/New_York:20260828T110000
DTSTAMP:20260421T133413
CREATED:20260224T174028Z
LAST-MODIFIED:20260225T133052Z
UID:10002816-1787911200-1787914800@bikeboxproject.org
SUMMARY:Support Group
DESCRIPTION:General meeting for people with Parkinson’s\, their care partner/care family\, and anyone interested in the Parkinson’s community. Meeting location is 2311 Elizabeth Ave\, New Bern\, 28562
URL:https://bikeboxproject.org/calendar1/support-group/2026-08-28/
CATEGORIES:Support Group
END:VEVENT
BEGIN:VEVENT
DTSTART;TZID=America/New_York:20260831T100000
DTEND;TZID=America/New_York:20260831T113000
DTSTAMP:20260421T133413
CREATED:20260224T162536Z
LAST-MODIFIED:20260225T131618Z
UID:10000055-1788170400-1788175800@bikeboxproject.org
SUMMARY:RSB Ali Class
DESCRIPTION:Level 1 Rock Steady Boxing class; independent w/ minor PD symptoms
URL:https://bikeboxproject.org/calendar1/ali-rsb-class/2026-08-31/
LOCATION:Rock Steady Boxing\, 1720 Trent Blvd\, New Bern\, NC\, 28560\, United States
CATEGORIES:RSB Ali Class
END:VEVENT
BEGIN:VEVENT
DTSTART;TZID=America/New_York:20260831T123000
DTEND;TZID=America/New_York:20260831T140000
DTSTAMP:20260421T133413
CREATED:20260224T163206Z
LAST-MODIFIED:20260225T131744Z
UID:10000577-1788179400-1788184800@bikeboxproject.org
SUMMARY:RSB Tyson Class
DESCRIPTION:Level 2 Rock Steady Boxing class; independent w/ moderate PD symptoms; some modifications possible
URL:https://bikeboxproject.org/calendar1/rsb-tyson-class/2026-08-31/
LOCATION:Rock Steady Boxing\, 1720 Trent Blvd\, New Bern\, NC\, 28560\, United States
CATEGORIES:RSB Tyson Class
END:VEVENT
BEGIN:VEVENT
DTSTART;TZID=America/New_York:20260901T090000
DTEND;TZID=America/New_York:20260901T100000
DTSTAMP:20260421T133413
CREATED:20260224T171150Z
LAST-MODIFIED:20260225T132352Z
UID:10001099-1788253200-1788256800@bikeboxproject.org
SUMMARY:RSB Sugar Ray Class
DESCRIPTION:Level 2/3 Rock Steady Boxing class; more progressed PD symptoms; balance and PD related issues requiring some volunteer assistance
URL:https://bikeboxproject.org/calendar1/rsb-sugar-ray-class/2026-09-01/
CATEGORIES:RSB Sugar Ray Class
END:VEVENT
BEGIN:VEVENT
DTSTART;TZID=America/New_York:20260901T110000
DTEND;TZID=America/New_York:20260901T120000
DTSTAMP:20260421T133413
CREATED:20260224T171516Z
LAST-MODIFIED:20260225T132448Z
UID:10001620-1788260400-1788264000@bikeboxproject.org
SUMMARY:RSB Foreman Class
DESCRIPTION:Level 3/4 Rock Steady Boxing class; progressed PD with more serious symptoms; requires volunteer assistance due to balance\, cognition\, and modifications
URL:https://bikeboxproject.org/calendar1/foreman-rsb-class/2026-09-01/
CATEGORIES:Foreman RSB Class
END:VEVENT
BEGIN:VEVENT
DTSTART;TZID=America/New_York:20260901T130000
DTEND;TZID=America/New_York:20260901T140000
DTSTAMP:20260421T133413
CREATED:20260224T171937Z
LAST-MODIFIED:20260225T132558Z
UID:10002141-1788267600-1788271200@bikeboxproject.org
SUMMARY:RSB Frazier Class
DESCRIPTION:Level 4 Rock Steady Boxing class; severe symptoms of PD using an assistive device; requires volunteer for assistance
URL:https://bikeboxproject.org/calendar1/rsb-frazier-class/2026-09-01/
CATEGORIES:RSB Frazier Class
END:VEVENT
BEGIN:VEVENT
DTSTART;TZID=America/New_York:20260902T100000
DTEND;TZID=America/New_York:20260902T113000
DTSTAMP:20260421T133413
CREATED:20260224T162536Z
LAST-MODIFIED:20260225T131618Z
UID:10000056-1788343200-1788348600@bikeboxproject.org
SUMMARY:RSB Ali Class
DESCRIPTION:Level 1 Rock Steady Boxing class; independent w/ minor PD symptoms
URL:https://bikeboxproject.org/calendar1/ali-rsb-class/2026-09-02/
LOCATION:Rock Steady Boxing\, 1720 Trent Blvd\, New Bern\, NC\, 28560\, United States
CATEGORIES:RSB Ali Class
END:VEVENT
BEGIN:VEVENT
DTSTART;TZID=America/New_York:20260902T123000
DTEND;TZID=America/New_York:20260902T140000
DTSTAMP:20260421T133413
CREATED:20260224T163206Z
LAST-MODIFIED:20260225T131744Z
UID:10000578-1788352200-1788357600@bikeboxproject.org
SUMMARY:RSB Tyson Class
DESCRIPTION:Level 2 Rock Steady Boxing class; independent w/ moderate PD symptoms; some modifications possible
URL:https://bikeboxproject.org/calendar1/rsb-tyson-class/2026-09-02/
LOCATION:Rock Steady Boxing\, 1720 Trent Blvd\, New Bern\, NC\, 28560\, United States
CATEGORIES:RSB Tyson Class
END:VEVENT
BEGIN:VEVENT
DTSTART;TZID=America/New_York:20260903T090000
DTEND;TZID=America/New_York:20260903T100000
DTSTAMP:20260421T133413
CREATED:20260224T171150Z
LAST-MODIFIED:20260225T132352Z
UID:10001100-1788426000-1788429600@bikeboxproject.org
SUMMARY:RSB Sugar Ray Class
DESCRIPTION:Level 2/3 Rock Steady Boxing class; more progressed PD symptoms; balance and PD related issues requiring some volunteer assistance
URL:https://bikeboxproject.org/calendar1/rsb-sugar-ray-class/2026-09-03/
CATEGORIES:RSB Sugar Ray Class
END:VEVENT
BEGIN:VEVENT
DTSTART;TZID=America/New_York:20260903T110000
DTEND;TZID=America/New_York:20260903T120000
DTSTAMP:20260421T133413
CREATED:20260224T171516Z
LAST-MODIFIED:20260225T132448Z
UID:10001621-1788433200-1788436800@bikeboxproject.org
SUMMARY:RSB Foreman Class
DESCRIPTION:Level 3/4 Rock Steady Boxing class; progressed PD with more serious symptoms; requires volunteer assistance due to balance\, cognition\, and modifications
URL:https://bikeboxproject.org/calendar1/foreman-rsb-class/2026-09-03/
CATEGORIES:Foreman RSB Class
END:VEVENT
BEGIN:VEVENT
DTSTART;TZID=America/New_York:20260903T130000
DTEND;TZID=America/New_York:20260903T140000
DTSTAMP:20260421T133413
CREATED:20260224T171937Z
LAST-MODIFIED:20260225T132558Z
UID:10002142-1788440400-1788444000@bikeboxproject.org
SUMMARY:RSB Frazier Class
DESCRIPTION:Level 4 Rock Steady Boxing class; severe symptoms of PD using an assistive device; requires volunteer for assistance
URL:https://bikeboxproject.org/calendar1/rsb-frazier-class/2026-09-03/
CATEGORIES:RSB Frazier Class
END:VEVENT
BEGIN:VEVENT
DTSTART;TZID=America/New_York:20260904T100000
DTEND;TZID=America/New_York:20260904T110000
DTSTAMP:20260421T133413
CREATED:20260224T173748Z
LAST-MODIFIED:20260225T132850Z
UID:10002629-1788516000-1788519600@bikeboxproject.org
SUMMARY:Variety Class
DESCRIPTION:An extra workout of the week offered to RSB participants; class offered is either Strength and Stamina\, Chair/Restorative Yoga\, or Pound (music\, rhythm\, and drumsticks)
URL:https://bikeboxproject.org/calendar1/variety-class/2026-09-04/
CATEGORIES:Variety Class
END:VEVENT
BEGIN:VEVENT
DTSTART;TZID=America/New_York:20260907T100000
DTEND;TZID=America/New_York:20260907T113000
DTSTAMP:20260421T133413
CREATED:20260224T162536Z
LAST-MODIFIED:20260225T131618Z
UID:10000057-1788775200-1788780600@bikeboxproject.org
SUMMARY:RSB Ali Class
DESCRIPTION:Level 1 Rock Steady Boxing class; independent w/ minor PD symptoms
URL:https://bikeboxproject.org/calendar1/ali-rsb-class/2026-09-07/
LOCATION:Rock Steady Boxing\, 1720 Trent Blvd\, New Bern\, NC\, 28560\, United States
CATEGORIES:RSB Ali Class
END:VEVENT
BEGIN:VEVENT
DTSTART;TZID=America/New_York:20260907T123000
DTEND;TZID=America/New_York:20260907T140000
DTSTAMP:20260421T133413
CREATED:20260224T163206Z
LAST-MODIFIED:20260225T131744Z
UID:10000579-1788784200-1788789600@bikeboxproject.org
SUMMARY:RSB Tyson Class
DESCRIPTION:Level 2 Rock Steady Boxing class; independent w/ moderate PD symptoms; some modifications possible
URL:https://bikeboxproject.org/calendar1/rsb-tyson-class/2026-09-07/
LOCATION:Rock Steady Boxing\, 1720 Trent Blvd\, New Bern\, NC\, 28560\, United States
CATEGORIES:RSB Tyson Class
END:VEVENT
BEGIN:VEVENT
DTSTART;TZID=America/New_York:20260908T090000
DTEND;TZID=America/New_York:20260908T100000
DTSTAMP:20260421T133413
CREATED:20260224T171150Z
LAST-MODIFIED:20260225T132352Z
UID:10001101-1788858000-1788861600@bikeboxproject.org
SUMMARY:RSB Sugar Ray Class
DESCRIPTION:Level 2/3 Rock Steady Boxing class; more progressed PD symptoms; balance and PD related issues requiring some volunteer assistance
URL:https://bikeboxproject.org/calendar1/rsb-sugar-ray-class/2026-09-08/
CATEGORIES:RSB Sugar Ray Class
END:VEVENT
BEGIN:VEVENT
DTSTART;TZID=America/New_York:20260908T110000
DTEND;TZID=America/New_York:20260908T120000
DTSTAMP:20260421T133413
CREATED:20260224T171516Z
LAST-MODIFIED:20260225T132448Z
UID:10001622-1788865200-1788868800@bikeboxproject.org
SUMMARY:RSB Foreman Class
DESCRIPTION:Level 3/4 Rock Steady Boxing class; progressed PD with more serious symptoms; requires volunteer assistance due to balance\, cognition\, and modifications
URL:https://bikeboxproject.org/calendar1/foreman-rsb-class/2026-09-08/
CATEGORIES:Foreman RSB Class
END:VEVENT
BEGIN:VEVENT
DTSTART;TZID=America/New_York:20260908T130000
DTEND;TZID=America/New_York:20260908T140000
DTSTAMP:20260421T133413
CREATED:20260224T171937Z
LAST-MODIFIED:20260225T132558Z
UID:10002143-1788872400-1788876000@bikeboxproject.org
SUMMARY:RSB Frazier Class
DESCRIPTION:Level 4 Rock Steady Boxing class; severe symptoms of PD using an assistive device; requires volunteer for assistance
URL:https://bikeboxproject.org/calendar1/rsb-frazier-class/2026-09-08/
CATEGORIES:RSB Frazier Class
END:VEVENT
BEGIN:VEVENT
DTSTART;TZID=America/New_York:20260909T100000
DTEND;TZID=America/New_York:20260909T113000
DTSTAMP:20260421T133413
CREATED:20260224T162536Z
LAST-MODIFIED:20260225T131618Z
UID:10000058-1788948000-1788953400@bikeboxproject.org
SUMMARY:RSB Ali Class
DESCRIPTION:Level 1 Rock Steady Boxing class; independent w/ minor PD symptoms
URL:https://bikeboxproject.org/calendar1/ali-rsb-class/2026-09-09/
LOCATION:Rock Steady Boxing\, 1720 Trent Blvd\, New Bern\, NC\, 28560\, United States
CATEGORIES:RSB Ali Class
END:VEVENT
BEGIN:VEVENT
DTSTART;TZID=America/New_York:20260909T123000
DTEND;TZID=America/New_York:20260909T140000
DTSTAMP:20260421T133413
CREATED:20260224T163206Z
LAST-MODIFIED:20260225T131744Z
UID:10000580-1788957000-1788962400@bikeboxproject.org
SUMMARY:RSB Tyson Class
DESCRIPTION:Level 2 Rock Steady Boxing class; independent w/ moderate PD symptoms; some modifications possible
URL:https://bikeboxproject.org/calendar1/rsb-tyson-class/2026-09-09/
LOCATION:Rock Steady Boxing\, 1720 Trent Blvd\, New Bern\, NC\, 28560\, United States
CATEGORIES:RSB Tyson Class
END:VEVENT
BEGIN:VEVENT
DTSTART;TZID=America/New_York:20260910T090000
DTEND;TZID=America/New_York:20260910T100000
DTSTAMP:20260421T133413
CREATED:20260224T171150Z
LAST-MODIFIED:20260225T132352Z
UID:10001102-1789030800-1789034400@bikeboxproject.org
SUMMARY:RSB Sugar Ray Class
DESCRIPTION:Level 2/3 Rock Steady Boxing class; more progressed PD symptoms; balance and PD related issues requiring some volunteer assistance
URL:https://bikeboxproject.org/calendar1/rsb-sugar-ray-class/2026-09-10/
CATEGORIES:RSB Sugar Ray Class
END:VEVENT
BEGIN:VEVENT
DTSTART;TZID=America/New_York:20260910T110000
DTEND;TZID=America/New_York:20260910T120000
DTSTAMP:20260421T133413
CREATED:20260224T171516Z
LAST-MODIFIED:20260225T132448Z
UID:10001623-1789038000-1789041600@bikeboxproject.org
SUMMARY:RSB Foreman Class
DESCRIPTION:Level 3/4 Rock Steady Boxing class; progressed PD with more serious symptoms; requires volunteer assistance due to balance\, cognition\, and modifications
URL:https://bikeboxproject.org/calendar1/foreman-rsb-class/2026-09-10/
CATEGORIES:Foreman RSB Class
END:VEVENT
BEGIN:VEVENT
DTSTART;TZID=America/New_York:20260910T130000
DTEND;TZID=America/New_York:20260910T140000
DTSTAMP:20260421T133413
CREATED:20260224T171937Z
LAST-MODIFIED:20260225T132558Z
UID:10002144-1789045200-1789048800@bikeboxproject.org
SUMMARY:RSB Frazier Class
DESCRIPTION:Level 4 Rock Steady Boxing class; severe symptoms of PD using an assistive device; requires volunteer for assistance
URL:https://bikeboxproject.org/calendar1/rsb-frazier-class/2026-09-10/
CATEGORIES:RSB Frazier Class
END:VEVENT
BEGIN:VEVENT
DTSTART;TZID=America/New_York:20260911T100000
DTEND;TZID=America/New_York:20260911T110000
DTSTAMP:20260421T133413
CREATED:20260224T173748Z
LAST-MODIFIED:20260225T132850Z
UID:10002630-1789120800-1789124400@bikeboxproject.org
SUMMARY:Variety Class
DESCRIPTION:An extra workout of the week offered to RSB participants; class offered is either Strength and Stamina\, Chair/Restorative Yoga\, or Pound (music\, rhythm\, and drumsticks)
URL:https://bikeboxproject.org/calendar1/variety-class/2026-09-11/
CATEGORIES:Variety Class
END:VEVENT
BEGIN:VEVENT
DTSTART;TZID=America/New_York:20260914T100000
DTEND;TZID=America/New_York:20260914T113000
DTSTAMP:20260421T133413
CREATED:20260224T162536Z
LAST-MODIFIED:20260225T131618Z
UID:10000059-1789380000-1789385400@bikeboxproject.org
SUMMARY:RSB Ali Class
DESCRIPTION:Level 1 Rock Steady Boxing class; independent w/ minor PD symptoms
URL:https://bikeboxproject.org/calendar1/ali-rsb-class/2026-09-14/
LOCATION:Rock Steady Boxing\, 1720 Trent Blvd\, New Bern\, NC\, 28560\, United States
CATEGORIES:RSB Ali Class
END:VEVENT
BEGIN:VEVENT
DTSTART;TZID=America/New_York:20260914T123000
DTEND;TZID=America/New_York:20260914T140000
DTSTAMP:20260421T133413
CREATED:20260224T163206Z
LAST-MODIFIED:20260225T131744Z
UID:10000581-1789389000-1789394400@bikeboxproject.org
SUMMARY:RSB Tyson Class
DESCRIPTION:Level 2 Rock Steady Boxing class; independent w/ moderate PD symptoms; some modifications possible
URL:https://bikeboxproject.org/calendar1/rsb-tyson-class/2026-09-14/
LOCATION:Rock Steady Boxing\, 1720 Trent Blvd\, New Bern\, NC\, 28560\, United States
CATEGORIES:RSB Tyson Class
END:VEVENT
BEGIN:VEVENT
DTSTART;TZID=America/New_York:20260915T090000
DTEND;TZID=America/New_York:20260915T100000
DTSTAMP:20260421T133413
CREATED:20260224T171150Z
LAST-MODIFIED:20260225T132352Z
UID:10001103-1789462800-1789466400@bikeboxproject.org
SUMMARY:RSB Sugar Ray Class
DESCRIPTION:Level 2/3 Rock Steady Boxing class; more progressed PD symptoms; balance and PD related issues requiring some volunteer assistance
URL:https://bikeboxproject.org/calendar1/rsb-sugar-ray-class/2026-09-15/
CATEGORIES:RSB Sugar Ray Class
END:VEVENT
BEGIN:VEVENT
DTSTART;TZID=America/New_York:20260915T110000
DTEND;TZID=America/New_York:20260915T120000
DTSTAMP:20260421T133413
CREATED:20260224T171516Z
LAST-MODIFIED:20260225T132448Z
UID:10001624-1789470000-1789473600@bikeboxproject.org
SUMMARY:RSB Foreman Class
DESCRIPTION:Level 3/4 Rock Steady Boxing class; progressed PD with more serious symptoms; requires volunteer assistance due to balance\, cognition\, and modifications
URL:https://bikeboxproject.org/calendar1/foreman-rsb-class/2026-09-15/
CATEGORIES:Foreman RSB Class
END:VEVENT
BEGIN:VEVENT
DTSTART;TZID=America/New_York:20260915T130000
DTEND;TZID=America/New_York:20260915T140000
DTSTAMP:20260421T133413
CREATED:20260224T171937Z
LAST-MODIFIED:20260225T132558Z
UID:10002145-1789477200-1789480800@bikeboxproject.org
SUMMARY:RSB Frazier Class
DESCRIPTION:Level 4 Rock Steady Boxing class; severe symptoms of PD using an assistive device; requires volunteer for assistance
URL:https://bikeboxproject.org/calendar1/rsb-frazier-class/2026-09-15/
CATEGORIES:RSB Frazier Class
END:VEVENT
END:VCALENDAR